BEGIN:VCALENDAR
VERSION:2.0
PRODID:-//IN BASSA ROMAGNA - ECPv5.8.2//NONSGML v1.0//EN
CALSCALE:GREGORIAN
METHOD:PUBLISH
X-WR-CALNAME:IN BASSA ROMAGNA
X-ORIGINAL-URL:https://www.inbassaromagna.it
X-WR-CALDESC:Eventi per IN BASSA ROMAGNA
BEGIN:VTIMEZONE
TZID:Europe/Rome
BEGIN:DAYLIGHT
TZOFFSETFROM:+0100
TZOFFSETTO:+0200
TZNAME:CEST
DTSTART:20230326T010000
END:DAYLIGHT
BEGIN:STANDARD
TZOFFSETFROM:+0200
TZOFFSETTO:+0100
TZNAME:CET
DTSTART:20231029T010000
END:STANDARD
END:VTIMEZONE
BEGIN:VEVENT
DTSTART;TZID=Europe/Rome:20231031T163000
DTEND;TZID=Europe/Rome:20231031T210000
DTSTAMP:20260423T151413
CREATED:20231024T071028Z
LAST-MODIFIED:20231024T071028Z
UID:1906-1698769800-1698786000@www.inbassaromagna.it
SUMMARY:Halloween Alfonsine 2023
DESCRIPTION:Martedì 31 ottobre si terrà in centro l’Halloween di Alfonsine 2023\, una serata di festa tra stand gastronomici\, esibizioni\, musica\, attività per i più piccoli e maschere. Associazioni\, commercianti\, consulte\, volontari e famiglie hanno collaborato con l’Amministrazione per festeggiare Halloween\, proponendo numerose iniziative. \nIngresso gratuito. \nPer informazioni: 0544 866667 – infocultura@comune.alfosine.ra.it \nScopri il programma
URL:https://www.inbassaromagna.it/event/halloween-alfonsine-2023/
LOCATION:Alfonsine\, Alfonsine\, Italy
CATEGORIES:Feste
ATTACH;FMTTYPE=image/jpeg:https://www.inbassaromagna.it/wp-content/uploads/2023/10/392881191_375563728176617_2553145003528862414_n.jpg
END:VEVENT
BEGIN:VEVENT
DTSTART;TZID=Europe/Rome:20231031T163000
DTEND;TZID=Europe/Rome:20231031T235900
DTSTAMP:20260423T151413
CREATED:20231024T072540Z
LAST-MODIFIED:20231024T072540Z
UID:1909-1698769800-1698796740@www.inbassaromagna.it
SUMMARY:Piligrèna Parade Cotignyork 2023
DESCRIPTION:Martedì 31 ottobre torna a Cotignola la Piligrèna Parade Cotignyork 2023 con: \n\ni Games with flames\, con un nuovo spettacolo infuocato; lo spettacolo di burattini La rivolta dei malvagi e il Carillon Alchemico in Piazza Vittorio Emanuele II;\nparata per le vie del centro\, con “dolcetto o scherzetto” nei negozi aperti;\nTorri alchemiche;\nescape room all’ex Ospedale Testi\, su prenotazione;\nlaboratorio Ceracolata\, su prenotazione (postaselvatica@gmail.com);\narea food nel Parco Bacchettoni;\ndjset;\nil grande spettacolo finale di fuoco\, all’incrocio tra C.so Sforza e Viale Cairoli (Piazzale della Pace).\n\nLa serata è organizzata da Cotignola Invita. \n 
URL:https://www.inbassaromagna.it/event/piligrena-parade-cotignyork-2023/
LOCATION:Cotignola\, Cotignola\, Italy
CATEGORIES:Feste
ATTACH;FMTTYPE=image/jpeg:https://www.inbassaromagna.it/wp-content/uploads/2023/10/385021723_697076359133588_2424451590257783701_n.jpg
END:VEVENT
BEGIN:VEVENT
DTSTART;TZID=Europe/Rome:20231031T163000
DTEND;TZID=Europe/Rome:20231031T223000
DTSTAMP:20260423T151413
CREATED:20231024T073331Z
LAST-MODIFIED:20231024T073331Z
UID:1912-1698769800-1698791400@www.inbassaromagna.it
SUMMARY:Halloween Fluo Party - Fusignano è Più
DESCRIPTION:Martedì 31 ottobre dalle 16.30 avrà luogo a Fusignano presso la Piazza Corelli l’Halloween Fluo Party con musica\, laboratori\, truccabimbi fluo\, dolcetto-scherzetto\, interventi della scuola di danza\, concerto della scuola di musica\, gastronomia e bevande\, set fotografico. Dalle 20.30 giocoliere/mangiafuoco\, dalle 21.30 il rogo della strega. \nPer saperne di più
URL:https://www.inbassaromagna.it/event/halloween-fluo-party-fusignano-e-piu/
LOCATION:Fusignano\, Fusignano\, Italy
CATEGORIES:Feste
ATTACH;FMTTYPE=image/jpeg:https://www.inbassaromagna.it/wp-content/uploads/2023/10/393734567_863942151831731_5707644539270296077_n.jpg
GEO:44.468347803914;11.958717085951
END:VEVENT
BEGIN:VEVENT
DTSTART;TZID=Europe/Rome:20231031T170000
DTEND;TZID=Europe/Rome:20231031T210000
DTSTAMP:20260423T151413
CREATED:20231024T074327Z
LAST-MODIFIED:20231024T074327Z
UID:1915-1698771600-1698786000@www.inbassaromagna.it
SUMMARY:La Notte delle Zucche a Lugo
DESCRIPTION:Martedì 31 ottobre dalle 17 il Comune di Lugo\, la Biblioteca Fabrizio Trisi\, il Museo Francesco Baracca\, il Consorzio In Bassa Romagna\, Lugo Eventi e la Pro Loco di Lugo propongono appuntamenti per tutti i gusti. Tra la Rocca e la Piazza tante zucche e fantasmi si aggireranno per divertire grandi e piccoli; torna Lughino Allouino con i laboratori per i bambini nella Rocca\, il rogo in Piazze e a seguire Nathalloween. \n\nIngresso libero.\n\n\nPer saperne di più
URL:https://www.inbassaromagna.it/event/la-notte-delle-zucche-a-lugo/
LOCATION:Lugo\, Lugo\, Italy
CATEGORIES:Feste
ATTACH;FMTTYPE=image/jpeg:https://www.inbassaromagna.it/wp-content/uploads/2023/10/392748163_712521220903647_7953431510056434242_n-1.jpg
GEO:44.420515650472;11.911011637422
END:VEVENT
END:VCALENDAR