BEGIN:VCALENDAR
VERSION:2.0
PRODID:-//IN BASSA ROMAGNA - ECPv5.8.2//NONSGML v1.0//EN
CALSCALE:GREGORIAN
METHOD:PUBLISH
X-WR-CALNAME:IN BASSA ROMAGNA
X-ORIGINAL-URL:https://www.inbassaromagna.it
X-WR-CALDESC:Eventi per IN BASSA ROMAGNA
BEGIN:VTIMEZONE
TZID:Europe/Rome
BEGIN:DAYLIGHT
TZOFFSETFROM:+0100
TZOFFSETTO:+0200
TZNAME:CEST
DTSTART:20230326T010000
END:DAYLIGHT
BEGIN:STANDARD
TZOFFSETFROM:+0200
TZOFFSETTO:+0100
TZNAME:CET
DTSTART:20231029T010000
END:STANDARD
END:VTIMEZONE
BEGIN:VEVENT
DTSTART;TZID=Europe/Rome:20230716T193000
DTEND;TZID=Europe/Rome:20230716T235900
DTSTAMP:20260422T145328
CREATED:20230714T075101Z
LAST-MODIFIED:20230714T075439Z
UID:1702-1689535800-1689551940@www.inbassaromagna.it
SUMMARY:La TorRe delle balle di paglia Viola
DESCRIPTION:Domenica 16 luglio dalle 19.30 presso la Serra Savini Vivai aperitivo o dopocena in occasione dell’Arena delle balle di paglia. \nDurante la serata proseguirà la raccolta fondi (online e offline) a favore dell’organizzazione della festa di Halloween. \n  \n 
URL:https://www.inbassaromagna.it/event/la-torre-delle-balle-di-paglia-viola/
LOCATION:Cotignola\, Cotignola\, Italy
CATEGORIES:Feste
ATTACH;FMTTYPE=image/jpeg:https://www.inbassaromagna.it/wp-content/uploads/2023/07/358950203_650197613821463_6467350710243981213_n.jpg
END:VEVENT
END:VCALENDAR