BEGIN:VCALENDAR
VERSION:2.0
PRODID:-//IN BASSA ROMAGNA - ECPv5.8.2//NONSGML v1.0//EN
CALSCALE:GREGORIAN
METHOD:PUBLISH
X-WR-CALNAME:IN BASSA ROMAGNA
X-ORIGINAL-URL:https://www.inbassaromagna.it
X-WR-CALDESC:Eventi per IN BASSA ROMAGNA
BEGIN:VTIMEZONE
TZID:Europe/Rome
BEGIN:DAYLIGHT
TZOFFSETFROM:+0100
TZOFFSETTO:+0200
TZNAME:CEST
DTSTART:20220327T010000
END:DAYLIGHT
BEGIN:STANDARD
TZOFFSETFROM:+0200
TZOFFSETTO:+0100
TZNAME:CET
DTSTART:20221030T010000
END:STANDARD
END:VTIMEZONE
BEGIN:VEVENT
DTSTART;VALUE=DATE:20221006
DTEND;VALUE=DATE:20221010
DTSTAMP:20260422T164056
CREATED:20220912T110807Z
LAST-MODIFIED:20220912T110807Z
UID:1010-1665014400-1665359999@www.inbassaromagna.it
SUMMARY:SAGRA DEL VINO TIPICO ROMAGNOLO
DESCRIPTION:Sagra del vino tipico romagnolo: Cotignola rende omaggio alla “cagnina” novella che offre il meglio di sé nei primi mesi successivi la svinatura\, con il suo gusto fresco e fruttato. La festa culmina con la musica\, i balli folkloristici e la pigiatura a piedi nudi. Dal 6 al 9 ottobre 2022. \nGrande protagonista della Sagra è l’ottimo vino romagnolo nelle sue più celebri declinazioni: Sangiovese\, Trebbiano e Cagnina. Ma anche le peculiarità gastronomiche\, con i piatti tipici della cucina romagnola. A fare da corollario\, numerose proposte ludiche\, artistiche e culturali. \nProgramma in via di definizione \nUlteriori informazioni\nCentro cittadino\nIndirizzo: Piazza V. Emanuele II – Cotignola – 48010 (RA)\nTelefono: 0545 42182 Pro Loco Cotignola\nE-mail: info@prolococotignola.com\nFB: Vino tipico Cotignola \nCome arrivare\nCentro città. Parcheggio auto lungo le vie cittadine e nei parcheggi periferici. Accessibile ai diversamente abili. \nIngresso gratuito \n(Aggiornato al 24/08/2022)
URL:https://www.inbassaromagna.it/event/sagra-del-vino-tipico-romagnolo/
LOCATION:Cotignola\, Cotignola\, Italy
ATTACH;FMTTYPE=image/jpeg:https://www.inbassaromagna.it/wp-content/uploads/2022/09/uva-vite-vino-300x200-1.jpg
END:VEVENT
BEGIN:VEVENT
DTSTART;TZID=Europe/Rome:20221007T080000
DTEND;TZID=Europe/Rome:20221009T170000
DTSTAMP:20260422T164056
CREATED:20220912T113211Z
LAST-MODIFIED:20220912T113211Z
UID:1013-1665129600-1665334800@www.inbassaromagna.it
SUMMARY:FESTA DELL'UVA
DESCRIPTION:Rinata da vecchie tradizioni mai dimenticate\, la Festa dell’Uva anima il centro di Alfonsine dal 7 al 9 ottobre 2022\, con l’allegria della vendemmia e il profumo del vino nuovo. \nPROGRAMMA \n\nVenerdì 7 ottobre\nore 19 – apertura stand gastronomico con specialità romagnole\nore 20 – Pianobar con Franco Zannoni \nSabato 8 ottobre\nore 18.30 – “7a Camminata dell’Uva”\nore 19 – apertura stand gastronomico con specialità romagnole\nore 21 – concerto dei Moka Club \nDomenica 9 ottobre\nore 12 e 19 – apertura stand gastronomico con specialità romagnole\nPomeriggio con degustazione vini di cantine locali e intrattenimento\nore 16 – spettacolo ballerini “Milleluci”\nore 18.30 – Aperitivo e dj-set a cura della trattoria “Al Gallo” \n\nUlteriori informazioni \nCentro storico\nIndirizzo: Piazza Monti – Alfonsine – 48011 (RA)\nTel: 339 8503411 – 0544 866667 info&prenotazioni\nE-mail: ufficiocultura@comune.alfonsine.ra.it\nURL: https://www.comune.alfonsine.ra.it/Citta-e-territorio/Eventi-e-Manifestazioni/Calendario-Eventi/Festa-dell-Uva-XX-edizione \nCome arrivare\nLe degustazioni si svolgono in Palazzo Marini e la festa nel centro storico (Piazza Monti). Parcheggio auto. Accessibile ai disabili. \nPrezzo: degustazioni a pagamento \n(Aggiornato al 06/09/2022)
URL:https://www.inbassaromagna.it/event/festa-delluva/
LOCATION:Alfonsine\, Alfonsine\, Italy
CATEGORIES:Feste,Sagre
ATTACH;FMTTYPE=image/jpeg:https://www.inbassaromagna.it/wp-content/uploads/2022/09/Festa-delluva-di-Alfonsine-1-300x200-1.jpg
END:VEVENT
END:VCALENDAR