BEGIN:VCALENDAR
VERSION:2.0
PRODID:-//IN BASSA ROMAGNA - ECPv5.8.2//NONSGML v1.0//EN
CALSCALE:GREGORIAN
METHOD:PUBLISH
X-WR-CALNAME:IN BASSA ROMAGNA
X-ORIGINAL-URL:https://www.inbassaromagna.it
X-WR-CALDESC:Eventi per IN BASSA ROMAGNA
BEGIN:VTIMEZONE
TZID:Europe/Rome
BEGIN:DAYLIGHT
TZOFFSETFROM:+0100
TZOFFSETTO:+0200
TZNAME:CEST
DTSTART:20220327T010000
END:DAYLIGHT
BEGIN:STANDARD
TZOFFSETFROM:+0200
TZOFFSETTO:+0100
TZNAME:CET
DTSTART:20221030T010000
END:STANDARD
END:VTIMEZONE
BEGIN:VEVENT
DTSTART;TZID=Europe/Rome:20220926T150000
DTEND;TZID=Europe/Rome:20220929T180000
DTSTAMP:20260423T111953
CREATED:20220920T084704Z
LAST-MODIFIED:20220920T084749Z
UID:1023-1664204400-1664474400@www.inbassaromagna.it
SUMMARY:PROMUOVI AMO LA LETTURA
DESCRIPTION:Settimana del Patto per la lettura Provincia di Ravenna – dal 26 settembre al 2 ottobre 2022 \n  \nIl Patto per la Lettura è lo strumento che i 18 comuni della provincia di Ravenna hanno adottato per rendere la lettura un’abitudine sociale diffusa\, riconoscendo il diritto di leggere come fondamentale per la cittadinanza. Nato nell’ambito del progetto “Città che legge” del Centro per il libro e la lettura\, il Patto si fonda su un’alleanza fra tutti i soggetti che individuano nella lettura una risorsa strategica ed è aperto alla partecipazione di chi condivide l’idea che leggere sia un valore su cui investire per la crescita delle nostre città. \nMercoledì 28 settembre 2022 presso la Sala Dantesca dell’Istituzione Biblioteca Classense si svolgerà la giornata di presentazione del Patto per la Lettura della Provincia di Ravenna; per l’itera settimana inoltre\, dal 26 settembre al 2 ottobre 2022\, avranno luogo numerose iniziative dedicate alla lettura a cura delle biblioteche aderenti al Patto. \nPer maggiori dettagli:  biblioteche romagna \nAnche il Comune di Massa Lombarda partecipa al ricco programma con una serie di attività\, quali una mostra bibliografica “diffusa”\, un incontro aperto con il gruppo di lettura della biblioteca “i Venturiniani” e\, per finire\, un appuntamento dedicato ai lettori più giovani. \n\n\n\n\n\n\n\nDal 26 settembre al 2 ottobre sarà allestita una mostra di libri d’arte\, scelti tra quelli posseduti dalla biblioteca\, presso vari luoghi del paese\, quali il Municipio\, la Sala delle Arti e della Musica e naturalmente presso il Centro Culturale Carlo Venturini; la biblioteca con questa mostra intende omaggiare la Scuola comunale d’arte e mestieri “Umberto Folli” in occasione della XI Biennale d’arte. \nSempre nella settimana dal 26 settembre al 2 ottobre sarà possibile visitare senza appuntamento la Sala delle Arti e della Musica presso il Centro Giovani JYL nei pomeriggi di lunedì 26\, martedì 27 e giovedì 29 dalle 15 alle 18. Sarà l’occasione per consultare e prendere in prestito libri relativi all’arte\, alla musica e al cinema. \nLa Sala delle Arti e della Musica al Centro Giovani JYL ospiterà giovedì 29 alle 17\, l’incontro del gruppo di lettura “i Venturiniani”\, costituito ad oggi da 11 lettrici e coordinato da Manuela Sangiorgi. L’incontro sarà aperto a tutti e offrirà l’opportunità di conoscere il gruppo\,che per l’occasione tratterà il tema delle donne nell’arte. \nIl gruppo si incontra di norma una volta al mese presso il Centro Culturale e durante gli incontri i partecipanti si confrontano su proposte di lettura condivisa di vario genere e tematica. La partecipazione è aperta a tutti coloro i quali vogliano condividere la propria passione per la lettura. \n\n\n\n\n\n\n\nPer finire\, sabato 1° ottobre alle 10.30 i più piccoli potranno ascoltare la lettura “Una casa per tutti\, ma proprio tutti” presso la Sala consiliare del Municipio; l’iniziativa si ricollega alle Giornate Nazionali dei giochi della gentilezza realizzate dall’Associazione Culturale Core et Amor (dal 22 settembre al 2 ottobre) e al contempo vuole essere l’occasione per celebrare la Festa dei nonni\, che ricorre il 2 ottobre. \nI bambini saranno invitati ad essere accompagnati anche dai nonni per passare del tempo insieme\, condividere l’ascolto della lettura e il gioco della gentilezza “La gentilezza a casa nostra”. \nInfatti la mattinata prevede\, dopo la lettura\, un momento di gioco che offra al contempo un’occasione di riflessione su quali possano essere i “gesti gentili” nelle case e nei confronti dei nonni.
URL:https://www.inbassaromagna.it/event/promuovi-amo-la-lettura/2022-09-26/
LOCATION:Massa Lombarda\, Massa Lombarda\, Italy
CATEGORIES:Cultura
ATTACH;FMTTYPE=image/png:https://www.inbassaromagna.it/wp-content/uploads/2022/09/PROMUOVI-AMO-LA-LETTURA_novenimagecropper_reference.png
END:VEVENT
BEGIN:VEVENT
DTSTART;VALUE=DATE:20220929
DTEND;VALUE=DATE:20221003
DTSTAMP:20260423T111953
CREATED:20220912T103713Z
LAST-MODIFIED:20220912T103713Z
UID:1001-1664409600-1664755199@www.inbassaromagna.it
SUMMARY:FESTA DI SAN MICHELE
DESCRIPTION:A Bagnacavallo torna la Festa di San Michele (29 settembre festa del patrono San Michele) per viaggiare insieme alla scoperta degli eventi d’arte\, teatro e cultura che compongono una geografia della meraviglia e per gustare le prelibatezze della nostra festa\, prima fra tutte la ricetta segreta del dolce di San Michele.\nDal 29 settembre al 2 ottobre 2022: arte\, cultura\, musica e gastronomia. Anteprima della festa 26 agosto ore 21.00 Boncellino di Bagnacavallo. \nPROGRAMMA on-line dall’1 settembre\n \nArte\nEventi\nMusica\nBambini\nVisite guidate\nEuropa\nGastronomia \nProgramma per giornate:\n29 settembre\n30 settembre\n1 ottobre\n2 ottobre\nIntorno a San Michele \n\n\n  \n  \n\n\n\n\n\n\n\n\n\n\n\n\n\n  \nLe origini della festa sono antichissime: i primi documenti in cui viene citata risalgono al 1202.\nOggi la festa ha come teatro le vie\, le piazze e gli scorci più belli del centro storico dove perdersi\, per ammirarla con in mano un calice di vino o assaporarne cucina e tradizioni. \nInformazioni utili\nCentro cittadino\nBagnacavallo (RA)\nTel: 0545 280889\nE-mail: info@festasanmichele.it\nURL: http://www.festasanmichele.it \nCome arrivare\nDall’uscita Bagnacavallo sull’A14bis\, alla rotonda\, prendere la prima uscita\, direzione Bagnacavallo. Dopo il passaggio a livello svoltare a destra\, direzione Ravenna\, sulla SP253 e subito dopo a sinistra\, in direzione centro. Gli spettacoli e le animazioni hanno luogo nelle piazze e nelle vie del centro storico. Ampie possibilità di parcheggio in largo De Gasperi\, largo Kennedy\, via Darsena\, via Fossa\, via Cadorna (Clarisse)\, zone circostanti il centro cittadino. \n  \n\n\n(Aggiornato al 26/08/2022)
URL:https://www.inbassaromagna.it/event/festa-di-san-michele-2/
LOCATION:Bagnacavallo\, Bagnacavallo\, Italy
CATEGORIES:Feste,Mercatini,Sagre
ATTACH;FMTTYPE=image/jpeg:https://www.inbassaromagna.it/wp-content/uploads/2022/09/San-Michele-2022-grafica-orizzontale-300x115-1.jpg
END:VEVENT
END:VCALENDAR