BEGIN:VCALENDAR
VERSION:2.0
PRODID:-//IN BASSA ROMAGNA - ECPv5.8.2//NONSGML v1.0//EN
CALSCALE:GREGORIAN
METHOD:PUBLISH
X-WR-CALNAME:IN BASSA ROMAGNA
X-ORIGINAL-URL:https://www.inbassaromagna.it
X-WR-CALDESC:Eventi per IN BASSA ROMAGNA
BEGIN:VTIMEZONE
TZID:Europe/Rome
BEGIN:DAYLIGHT
TZOFFSETFROM:+0100
TZOFFSETTO:+0200
TZNAME:CEST
DTSTART:20230326T010000
END:DAYLIGHT
BEGIN:STANDARD
TZOFFSETFROM:+0200
TZOFFSETTO:+0100
TZNAME:CET
DTSTART:20231029T010000
END:STANDARD
END:VTIMEZONE
BEGIN:VEVENT
DTSTART;TZID=Europe/Rome:20230108T204500
DTEND;TZID=Europe/Rome:20230108T233000
DTSTAMP:20260421T140404
CREATED:20221222T101120Z
LAST-MODIFIED:20221222T101120Z
UID:1077-1673210700-1673220600@www.inbassaromagna.it
SUMMARY:Una domenica... corale
DESCRIPTION:In data 8 gennaio alle 20.45 nella chiesa di san Francesco si terrà il concerto Una domenica… corale\, con la partecipazione delle corali “San Pier Damiani” di Russi e “Laudere Dominum” di Faenza. \n  \nper conoscere gli altri eventi a Cotignola: Bassa Romagna Mia
URL:https://www.inbassaromagna.it/event/una-domenica-corale/
LOCATION:Cotignola\, Cotignola\, Italy
END:VEVENT
END:VCALENDAR