BEGIN:VCALENDAR
VERSION:2.0
PRODID:-//IN BASSA ROMAGNA - ECPv5.8.2//NONSGML v1.0//EN
CALSCALE:GREGORIAN
METHOD:PUBLISH
X-WR-CALNAME:IN BASSA ROMAGNA
X-ORIGINAL-URL:https://www.inbassaromagna.it
X-WR-CALDESC:Eventi per IN BASSA ROMAGNA
BEGIN:VTIMEZONE
TZID:Europe/Rome
BEGIN:DAYLIGHT
TZOFFSETFROM:+0100
TZOFFSETTO:+0200
TZNAME:CEST
DTSTART:20210328T010000
END:DAYLIGHT
BEGIN:STANDARD
TZOFFSETFROM:+0200
TZOFFSETTO:+0100
TZNAME:CET
DTSTART:20211031T010000
END:STANDARD
END:VTIMEZONE
BEGIN:VEVENT
DTSTART;VALUE=DATE:20211014
DTEND;VALUE=DATE:20211017
DTSTAMP:20260421T184600
CREATED:20211001T095613Z
LAST-MODIFIED:20211001T095613Z
UID:608-1634169600-1634428799@www.inbassaromagna.it
SUMMARY:SONORA RADIO FEST
DESCRIPTION:Sonora Radio Fest nasce da un’idea dell’Unione dei Comuni della Bassa Romagna\, in collaborazione con l’associazione Sonora Social club\, che gestisce Radio Sonora\, punto di riferimento di tanti giovani della Bassa Romagna\, realizzato con il contributo della Regione Emilia Romagna e patrocinato da Radio Rai e Noisey.\nRadio Sonora Fest vuole dedicare una giornata ai giovani\, alla radio\, alla comunicazione\, ai linguaggi\, alla partecipazione\, alla musica\, a speaker\, musicisti\, esperti e produttori di contenuti.\nMusicisti\, autori\, scrittori\, artisti\, professionisti\, protagonisti e stakeholder della radio\, fruitori e produttori della comunicazione radiofonica\, si confronteranno per l’intera giornata\, utilizzando tutti i linguaggi.\n“Fare radio” significa condividere\, comunicare liberamente\, mettere in contatto le idee\, incontrarsi\, contaminarsi.\nPer il Sonora Radio Fest\, Radio Web Sonora\, ha creato una partnership con le web radio della Regione Emilia-Romagna per realizzare quest’iniziativa dedicata. \nPROGRAMMA 2021 Dal 14 al 16 ottobre 2021 \nGIOVEDI’ 14 OTTOBRE ore 21\, presso Arena D’dri d’e’ Teatar\, Via Selice 129\, CONSELICE.\nLUE E I REGAZ DELLA BASSA\nMODER LIVE \nIn caso di maltempo si terrà: Teatro Comunale\, Via Selice 148 – Conselice. \nVENERDI’ 15 OTTOBRE ore 18.30\, presso il Parco Piancastelli\, Via Piancastelli 10\, FUSIGNANO\nC’È VITA NEL GRANDE NULLA AGRICOLO?\n(VILLAMARA DRIVE-IN | PODCAST LIVE) \nIn caso di maltempo si terrà: Auditorium Arcangelo Corelli\, via Benelli 2 – Fusignano \nSABATO 16 OTTOBRE\nSONORA RADIO FEST\npresso ANTICO CONVENTO DI SAN FRANCESCO VIA CADORNA 10 – BAGNACAVALLO \nOre 14.15\nMAKE IT SMARTER\nUN FUTURO PIÙ INTELLIGENTE\, COSTRUIAMOLO INSIEME.\nYOUZ – GENERAZIONE DI IDEE È IL PERCORSO CHE COINVOLGE I GIOVANI DELL’EMILIA-ROMAGNA RACCOGLIENDO IDEE E SUGGERIMENTI CHE PORTERANNO ALLA DEFINIZIONE DELLE FUTURE POLITICHE STRATEGICHE REGIONALI DELLE PROSSIME GENERAZIONI\nA cura della Regione Emilia Romagna\, Housatonic We Make it easy \nOre 15.30\nLIBERTÀ DI RACCONTARSI\nChiacchierata con FUMETTI BRUTTI \nOre 16.30\nYOUTUBE IMPRINTING\nIncontro e confronto con Arcade Boyz\, RichardHtt e Boban Pesov \nOre 17.30\nBNKR44 LIVE \nOre 18.30\nLE SERIE TEEN ITALIANE: DAI RAGAZZI DELLA TERZA C A GENERAZIONE 56 K\nConversazione tra Marco Villa e Diego Castelli (Serial Minds) e Luca Restivo (Autore) \nOre 19.30\nVARIETÀ CALCISTICO\nA cura di Simone Conte\, Emanuele Atturo e Daniele Manusia (La Riserva – Ultimo Uomo) \nOre 20.30\nTREDICI PIETRO LIVE \nore 21.45\nLA PIAZZA E LA NUOVA SOCIALITÀ\nConversazione con LO STATO SOCIALE \nOre 22.30\nJOAN THIELE LIVE \nINTORNO AL SONORA FEST!\nIncursioni di giornata: \nLE CINQUE LETTERE ALLA CITTÀ\nAscoltare e guardare 5 lettere scritte dai ragazzi e dalle ragazze indirizzate alla “Città”. Gli obiettivi 2030 dal globale al locale\, cosa possiamo fare per cambiare i nostri territori?\nA cura di La Compagnia Teatro dell’Argine in collaborazione con Itinerari Paralleli \nSPEAKER CORNER – DAI VOCE ALLE TUE IDEE!\nUno spazio libero dove i ragazzi e le ragazze possono dare spazio ai loro sogni\, desideri e idee concrete per la loro “città del 2030”. Attraverso la scrittura\, il video e le stories potranno dare voce alle loro idee! A cura di Itinerari Paralleli \nMAPPATURA EMOTIVA – I (BI)SOGNI SON DESIDERI\nLaboratorio di educazione al territorio rivolto alle giovani generazioni che mira a rendere i partecipanti osservatori attivi della città\, dando loro strumenti adatti per riflettere autonomamente sui luoghi in cui vivono o studiano. A cura di Exvuoto teatro \nRECLAIM | MANIFESTI E PROTESTA DALL’ARCHIVIO DI POSTER DI CHEAP\nProgetto di arte pubblica a cura di CHEAP street poster art – www.cheapfestival.it \nNormative Anti-Covid\nIl Sonora Radio Fest si terrà nel rispetto delle vigenti Normative Anti-Covid.\nL’ingresso all’area del concerto sarà consentito con presentazione del Green Pass o di esito negativo di tampone entro le 48h precedenti l’evento.\nPausa con aperitivi\, stuzzicheria\, bistrot\, pranzi\, merende e cene a cura di Chiribilli Mise en place Bistrot\nCaffetteria a cura di Antico Convento di San Francesco \n  \nPer ulteriori informazioni\nRadio Sonora\nVia Bedeschi\, 9 – 48012 Bagnacavallo (Ra)\n+39 335 8002382\nSito web: http://www.radiosonora.it/\nFacebook radiowebsonora\nradiosonora.info@gmail.com \nIngresso libero
URL:https://www.inbassaromagna.it/event/sonora-radio-fest/
LOCATION:Antico Convento San Francesco\, Via Cadorna 10\, Bagnacavallo
CATEGORIES:Feste,Spettacoli
ATTACH;FMTTYPE=image/jpeg:https://www.inbassaromagna.it/wp-content/uploads/2021/10/sonora-radio-fest-2021-300x300-1.jpg
ORGANIZER;CN="Radio%20Sonora":MAILTO:radiosonora.info@gmail.com
END:VEVENT
END:VCALENDAR