BEGIN:VCALENDAR
VERSION:2.0
PRODID:-//IN BASSA ROMAGNA - ECPv5.8.2//NONSGML v1.0//EN
CALSCALE:GREGORIAN
METHOD:PUBLISH
X-WR-CALNAME:IN BASSA ROMAGNA
X-ORIGINAL-URL:https://www.inbassaromagna.it
X-WR-CALDESC:Eventi per IN BASSA ROMAGNA
BEGIN:VTIMEZONE
TZID:Europe/Rome
BEGIN:DAYLIGHT
TZOFFSETFROM:+0100
TZOFFSETTO:+0200
TZNAME:CEST
DTSTART:20220327T010000
END:DAYLIGHT
BEGIN:STANDARD
TZOFFSETFROM:+0200
TZOFFSETTO:+0100
TZNAME:CET
DTSTART:20221030T010000
END:STANDARD
END:VTIMEZONE
BEGIN:VEVENT
DTSTART;VALUE=DATE:20220121
DTEND;VALUE=DATE:20220126
DTSTAMP:20260421T165911
CREATED:20220107T103645Z
LAST-MODIFIED:20220107T103815Z
UID:765-1642723200-1643155199@www.inbassaromagna.it
SUMMARY:SAN PEVAL DI SEGN
DESCRIPTION:Fin dall’antichità i contadini\, vivendo a stretto contatto con la natura\, da essa trassero gli elementi per interpretarla. Questo permetteva loro di fare previsioni sul cambiamento del tempo\, al fine di organizzare il lavoro nel modo migliore. Tra le varie teorie\, molto fantasiosa era quella che attribuiva alle condizioni meteorologiche dei primi 24 giorni dell’anno un valore di anticipazione valida per tutti i dodici mesi successivi. Questo periodo di ventiquattro giorni era chiamato al spej di mis (le spie dei mesi) e il 25° giorno serviva per effettuare una valutazione generale sull’andamento dell’annata. Quel giorno era il giorno di San Paolo\, che era dunque noto come San Pêval di Segn. San Paolo è il patrono di Massa Lombarda e viene da tempo festeggiato nella cittadina con culmine il 25 gennaio.\n \nPROGRAMMA degli eventi principali \nSAGRA DEL SABADONE\ndal 21 al 25 gennaio 2022\nPiazza Matteotti\nInfo: Tel 335 7236903\nMail: prolocomassalombarda@gmail.com \nFESTA DI SAN PAOLO\n25 gennaio Chiesa Parrocchiale di San Paolo\nore 10.30 Santa Messa Solenne in onore del Santo Celebrata da Monsignor Giovanni Mosciatti \nMostre: \n25 – 30 Gennaio\, Sala Facchini presso Palazzo Facchini via Saffi 4\n“Figli della stessa fiamma\, storia di un’amicizia di sette secoli fa” : mostra e conferenza dedicate alla storia a cura di Werter Spoglianti\, appassionato di storia locale. \nUlteriori informazioni \nCentro cittadino\nMassa Lombarda – 48024 (RA)\nTel: 0545 985890\nE-mail: urp@comune.massalombarda.ra.it \nCome arrivare\nTutte le iniziative in programma si svolgono in vari luoghi del centro cittadino. Possibilità di parcheggi nelle aree circostanti il centro. Accessibile ai diversamente abili. \nPrezzo: gratuito\nOrari: 21 e 24 nel pomeriggio – 22\, 23 e 25 intera giornata
URL:https://www.inbassaromagna.it/event/san-peval-di-segn/
LOCATION:Massa Lombarda\, Massa Lombarda\, Italy
ATTACH;FMTTYPE=image/jpeg:https://www.inbassaromagna.it/wp-content/uploads/2022/01/san-paolo-tarso-300x172-1.jpg
END:VEVENT
END:VCALENDAR