BEGIN:VCALENDAR
VERSION:2.0
PRODID:-//IN BASSA ROMAGNA - ECPv5.8.2//NONSGML v1.0//EN
CALSCALE:GREGORIAN
METHOD:PUBLISH
X-WR-CALNAME:IN BASSA ROMAGNA
X-ORIGINAL-URL:https://www.inbassaromagna.it
X-WR-CALDESC:Eventi per IN BASSA ROMAGNA
BEGIN:VTIMEZONE
TZID:Europe/Rome
BEGIN:DAYLIGHT
TZOFFSETFROM:+0100
TZOFFSETTO:+0200
TZNAME:CEST
DTSTART:20210328T010000
END:DAYLIGHT
BEGIN:STANDARD
TZOFFSETFROM:+0200
TZOFFSETTO:+0100
TZNAME:CET
DTSTART:20211031T010000
END:STANDARD
END:VTIMEZONE
BEGIN:VEVENT
DTSTART;VALUE=DATE:20210909
DTEND;VALUE=DATE:20210914
DTSTAMP:20260421T192537
CREATED:20210825T132223Z
LAST-MODIFIED:20210922T151854Z
UID:428-1631145600-1631577599@www.inbassaromagna.it
SUMMARY:SAGRA DELLE ERBE PALUSTRI
DESCRIPTION:Dal 9 al 13 settembre 2021 a Villanova di Bagnacavallo si tiene la Sagra delle erbe palustri. Una festa unica con rievocazione delle tecniche ottocentesche di lavorazione delle erbe palustri\, laboratori\, mostre\, mercatini\, spettacoli\, incontri e gastronomia conviviale. La manifestazione ha il suo momento culminante nelle giornate di sabato e domenica\, quando la piccola cittadina si trasforma in un grande mercato e in un fervente laboratorio che accoglie i mestieri dell’arte\, della natura e le antiche botteghe. \n9-10 SETTEMBRE ore 10-12 e 16-20\nTERRENA – Nicola Genco EMPIREO NEGATO (Laboratorio artistico partecipato) \n10 SETTEMBRE\nore 19.00 Inaugurazione mostre\nore 20.00 “PerBacco che cena selvatica” (Cena a tema presso la Locanda dell’Allegra Mutanda in collaborazione con Consorzio il Bagnacavallo\, Orto Biologico Radisa e Slow Food Godo e Bassa Romagna) \n11 SETTEMBRE\nore 8.00-19.00 Mostra mercato\nore 9.00-19.00\n– Cestai\, intrecciatori e antichi mestieri\n– Progetto “Incontriamoci sul verde”\nore 12.00 Pranzo alla Locanda dell’Allegra Mutanda\nore 15.00-18.00 Laboratorio dimostrativo di lavorazione delle erbe palustri\nore 19.00 Cena alla Locanda dell’Allegra Mutanda \n12 SETTEMBRE\nore 8.00-19.00 Mostra mercato\nore 9.00-18.00\n– Laboratorio dimostrativo di lavorazione delle erbe palustri\n– Cestai\, intrecciatori e antichi mestieri\n– Progetto “Incontriamoci sul verde”\nore 12.00 Pranzo alla Locanda dell’Allegra Mutanda \nAnimazioni\nore 16.00\n– DANZE OTTOCENTESCHE Promenade e giochi\n– LE FARSE DI FAGIOLINO E SGANAPINO Spettacolo di burattini\nore 17.00 LE BOLLE GIGANTI \nore 19.00 Cena alla Locanda dell’Allegra Mutanda \n13 SETTEMBRE\nore 20.30 “Il pesce di valle. Cena tra terra ed acqua” alla Locanda dell’Allegra Mutanda (cena in collaborazione con Slow Food Godo e Bassa Romagna\, con lo chef Federico Scudellari)
URL:https://www.inbassaromagna.it/event/sagra-delle-erbe-palustri/
LOCATION:Villanova di Bagnacavallo\, Villanova di Bagnacavallo\, Italy
CATEGORIES:Sagre
ATTACH;FMTTYPE=image/jpeg:https://www.inbassaromagna.it/wp-content/uploads/2021/08/sagra_erbe_palustri_2021.jpg
END:VEVENT
END:VCALENDAR