BEGIN:VCALENDAR
VERSION:2.0
PRODID:-//IN BASSA ROMAGNA - ECPv5.8.2//NONSGML v1.0//EN
CALSCALE:GREGORIAN
METHOD:PUBLISH
X-WR-CALNAME:IN BASSA ROMAGNA
X-ORIGINAL-URL:https://www.inbassaromagna.it
X-WR-CALDESC:Eventi per IN BASSA ROMAGNA
BEGIN:VTIMEZONE
TZID:Europe/Rome
BEGIN:DAYLIGHT
TZOFFSETFROM:+0100
TZOFFSETTO:+0200
TZNAME:CEST
DTSTART:20220327T010000
END:DAYLIGHT
BEGIN:STANDARD
TZOFFSETFROM:+0200
TZOFFSETTO:+0100
TZNAME:CET
DTSTART:20221030T010000
END:STANDARD
END:VTIMEZONE
BEGIN:VEVENT
DTSTART;VALUE=DATE:20220909
DTEND;VALUE=DATE:20220913
DTSTAMP:20260421T152240
CREATED:20220912T095625Z
LAST-MODIFIED:20220912T095625Z
UID:987-1662681600-1663027199@www.inbassaromagna.it
SUMMARY:SAGRA DELLE ERBE PALUSTRI
DESCRIPTION:Dal 9 al 12 settembre 2022 a Villanova di Bagnacavallo si tiene la Sagra delle erbe palustri. Una festa unica con rievocazione delle tecniche ottocentesche di lavorazione delle erbe palustri\, laboratori\, mostre\, mercatini\, spettacoli\, incontri e gastronomia conviviale. La manifestazione ha il suo momento culminante nelle giornate di sabato e domenica\, quando la piccola cittadina si trasforma in un grande mercato e in un fervente laboratorio che accoglie i mestieri dell’arte\, della natura e le antiche botteghe. \nPROGRAMMA \n\nVenerdì 9 Settembre\nOre 19 Apertura delle mostre\nOre 20 “PerBacco che cena selvatica!”: Serata a tema alla Locanda dell’allegra Mutanda in collaborazione con Consorzio Il Bagnacavallo (€28 Prenotazione obbligatoria tel. 0545 280920 – Ecomuseo )\nOre 21 Dialetto arte antica e persa “IN RUMAGNOL U S DIS” con Romagna Slang a cura dell’Istituto Schurr di Ravenna \nSabato 10 Settembre\nOre 8-19 MOSTRA MERCATO: Antiquariato\, modernariato\, collezionismo\, arte e natura\nOre 9 Cestai\, intrecciatori e antichi mestieri (via Ungaretti)\nOre 12 Pranzo alla Locanda dell’allegra Mutanda\, Piatti della tradizione e prodotti di filiera corta (Si consiglia la prenotazione tel. 0545 280920 – Ecomuseo)\nOre 15 Laboratorio dimostrativo di lavorazione delle erbe palustri “Cantiere Aperto” dell’Ecomuseo (Etnoparco)\nOre 18 Il muro racconta\, I Murales del paese: Passeggiata inaugurale aperta a tutti a cura del Gruppo Villanordic\nOre 19 Cena alla Locanda dell’allegra Mutanda\, Piatti della tradizione e prodotti di filiera corta (Si consiglia la prenotazione tel. 0545 280920 – Ecomuseo) \nDomenica 11 settembre\nOre 8-19 MOSTRA MERCATO: Antiquariato\, modernariato\, collezionismo\, arte e natura\nOre 8 MERCATINO DELLE PULCI: per bambini e ragazzi fino a 14 anni (Parco Pubblico)\nOre 9 Cestai\, intrecciatori e antichi mestieri (Via Ungaretti)\nLaboratorio dimostrativo di lavorazione delle erbe palustri “Cantiere Aperto” dell’Ecomuseo (Etnoparco)\nOre 12 Pranzo alla Locanda dell’allegra Mutanda\, Piatti della tradizione e prodotti di filiera corta (Si consiglia la prenotazione tel. 0545 280920 – Ecomuseo) \nAnimazioni\nOre 15 CAROVANA SCANZONATA con i Musicanti di San Crispino (Etnoparco)\nOre 16 SGANAPINO MEDICO PER FORZA: Spettacolo di burattini a cura del Teatro dell’Aglio (Parco Pubblico)\nOre 17 LE BOLLE GIGANTI di Strudel (Parco Pubblico)\nOre 19 Cena alla Locanda dell’allegra Mutanda\, Piatti della tradizione e prodotti di filiera corta (Si consiglia la prenotazione tel. 0545 280920 – Ecomuseo) \n12 settembre ore 21\, Ecomuseo delle Erbe Palustri\nLunedì con Ivano Marescotti\nCiàcar in rumagnol\n(ingresso a offerta libera)\nOre 20.30 Cena alla Locanda dell’allegra Mutanda\, Il bosco scende in valle in collaborazione con Slow Food Godo e Bassa Romagna.\nMenù a cura dello chef Federico Scudellari (€40/45 Prenotazione obbligatoria slowfoodbassaromagna@gmail.com)\n \nMOSTRE\nPresso Ecomuseo delle erbe palustri ed Etnoparco Villanova delle capanne (venerdì e lunedì 19 – 22 • sabato e domenica 9 – 22) \n\nLe ali del Delta: mostra fotografica a cura del Circolo Fotografico il Forno\nGiocosa volante: aquiloni storici del maestro Medio Calderoni\, collezione dell’Ass. Culturale Civiltà delle Erbe Palustri\nUn fiasco Villanovese. L’orgoglio della comunità: raccolta di manufatti etnici locali\, collezione dell’Ass. Culturale Civiltà delle Erbe Palustri\nPelle d’uovo\, battista\, misto lino e fustagni\, Biancheria intima dall’armadio della nonna: collezione dell’Ass. Culturale Civiltà delle Erbe Palustri\nCosacchi\, cowboy e donnine: sculture di Chilì ‘d Bagnera (Achille Martini)\, artista vallarolo del mondo palustre\nGrasse e succulenti: esposizione di piante grasse\, a cura di AIAS Associazione Italiana Amatori delle piante succulenti\n\n\n  \nUlteriori informazioni\nEcomuseo delle Erbe Palustri\nIndirizzo:  Villanova di Bagnacavallo – 48020 (RA)\nTel: 0545 280920\nE-mail: erbepalustri@comune.bagnacavallo.ra.it\nURL: https://ecomuseoerbepalustri.it/ \n(Aggiornato al 24/08/2022)
URL:https://www.inbassaromagna.it/event/sagra-delle-erbe-palustri-2/
LOCATION:Bagnacavallo\, Bagnacavallo\, Italy
CATEGORIES:Sagre
END:VEVENT
END:VCALENDAR