BEGIN:VCALENDAR
VERSION:2.0
PRODID:-//IN BASSA ROMAGNA - ECPv5.8.2//NONSGML v1.0//EN
CALSCALE:GREGORIAN
METHOD:PUBLISH
X-WR-CALNAME:IN BASSA ROMAGNA
X-ORIGINAL-URL:https://www.inbassaromagna.it
X-WR-CALDESC:Eventi per IN BASSA ROMAGNA
BEGIN:VTIMEZONE
TZID:Europe/Rome
BEGIN:DAYLIGHT
TZOFFSETFROM:+0100
TZOFFSETTO:+0200
TZNAME:CEST
DTSTART:20210328T010000
END:DAYLIGHT
BEGIN:STANDARD
TZOFFSETFROM:+0200
TZOFFSETTO:+0100
TZNAME:CET
DTSTART:20211031T010000
END:STANDARD
END:VTIMEZONE
BEGIN:VEVENT
DTSTART;VALUE=DATE:20210917
DTEND;VALUE=DATE:20210920
DTSTAMP:20260421T172755
CREATED:20210914T072759Z
LAST-MODIFIED:20210922T144223Z
UID:491-1631836800-1632095999@www.inbassaromagna.it
SUMMARY:SAGRA DEL RANOCCHIO
DESCRIPTION:La Sagra del Ranocchio di Conselice si tiene nella seconda metà di settembre: dal 17 al 19 settembre 2021. La sagra\, che si è affermata come una delle più singolari della Romagna\, con un programma ricco di spettacoli e animazione\, quest’anno vi aspetta in versione unicamente gastronomica\, con le immancabili ricette tradizionali a base di ranocchi\, perfette per chi vuole gustare i sapori di una tradizione che ci riporta alla cucina delle nostre azdòre che\, con i ranocchi\, sono le vere protagoniste di questa sagra. \nProgramma\nSOLO ASPORTO SU PRENOTAZIONE:\nPolenta al ragù\, rane fritte e al sugo \npresso “Il Gabbiano”\, via Verdi 2 \nsi può prenotare al cellulare: 353 4137032 / 353 4137053\nda lunedì 13 ore 10/11 e dalle 17/18\nVenerdì 17 e sabato 18 ore 10/17\nDomenica 19 fino alle ore 10 \nL’ASPORTO SI SVOLGERÀ\nVenerdì e Sabato ore 18\,30/ 20\,00\nDomenica ore 11\,30/13\,00 e 18\,30/20\,00 \nUlteriori informazioni\nCentro cittadino\nIndirizzo: “Il Gabbiano”\, via Verdi 2
URL:https://www.inbassaromagna.it/event/sagra-del-ranocchio/
LOCATION:Conselice\, Conselice\, Italy
CATEGORIES:Sagre
ATTACH;FMTTYPE=image/jpeg:https://www.inbassaromagna.it/wp-content/uploads/2021/09/MANIFESTO-sagra-RANOCCHIO-2021-1_carosello.jpg
END:VEVENT
END:VCALENDAR