BEGIN:VCALENDAR
VERSION:2.0
PRODID:-//IN BASSA ROMAGNA - ECPv5.8.2//NONSGML v1.0//EN
CALSCALE:GREGORIAN
METHOD:PUBLISH
X-WR-CALNAME:IN BASSA ROMAGNA
X-ORIGINAL-URL:https://www.inbassaromagna.it
X-WR-CALDESC:Eventi per IN BASSA ROMAGNA
BEGIN:VTIMEZONE
TZID:Europe/Rome
BEGIN:DAYLIGHT
TZOFFSETFROM:+0100
TZOFFSETTO:+0200
TZNAME:CEST
DTSTART:20220327T010000
END:DAYLIGHT
BEGIN:STANDARD
TZOFFSETFROM:+0200
TZOFFSETTO:+0100
TZNAME:CET
DTSTART:20221030T010000
END:STANDARD
END:VTIMEZONE
BEGIN:VEVENT
DTSTART;TZID=Europe/Rome:20221228T210000
DTEND;TZID=Europe/Rome:20221228T210000
DTSTAMP:20260421T170116
CREATED:20221222T165049Z
LAST-MODIFIED:20221222T165049Z
UID:1126-1672261200-1672261200@www.inbassaromagna.it
SUMMARY:Rock'n Roll Christmas Show
DESCRIPTION:Il 28 dicembre dalle 21 la Sala del Carmine ospita il Rock’n Roll Christmas Show\, con Miami & The Groovers ft. Massimo Marches & Pepper Blondes. \nL’ingresso è gratuito\, su prenotazione. \n  \nUlteriori informazioni
URL:https://www.inbassaromagna.it/event/rockn-roll-christmas-show/
LOCATION:Massa Lombarda\, Massa Lombarda\, Italy
END:VEVENT
END:VCALENDAR