BEGIN:VCALENDAR
VERSION:2.0
PRODID:-//IN BASSA ROMAGNA - ECPv5.8.2//NONSGML v1.0//EN
CALSCALE:GREGORIAN
METHOD:PUBLISH
X-WR-CALNAME:IN BASSA ROMAGNA
X-ORIGINAL-URL:https://www.inbassaromagna.it
X-WR-CALDESC:Eventi per IN BASSA ROMAGNA
BEGIN:VTIMEZONE
TZID:Europe/Rome
BEGIN:DAYLIGHT
TZOFFSETFROM:+0100
TZOFFSETTO:+0200
TZNAME:CEST
DTSTART:20230326T010000
END:DAYLIGHT
BEGIN:STANDARD
TZOFFSETFROM:+0200
TZOFFSETTO:+0100
TZNAME:CET
DTSTART:20231029T010000
END:STANDARD
END:VTIMEZONE
BEGIN:VEVENT
DTSTART;TZID=Europe/Rome:20230223T203000
DTEND;TZID=Europe/Rome:20230223T223000
DTSTAMP:20260421T193239
CREATED:20230220T101234Z
LAST-MODIFIED:20230220T102448Z
UID:1272-1677184200-1677191400@www.inbassaromagna.it
SUMMARY:Riunione Fusignano è PIU'
DESCRIPTION:In data 23 febbraio\, dalle 20.30\, si terrà nella sala “Il Granaio” (Piazza Corelli – Comune di Fusignano) l’assemblea annuale per presentare il bilancio 2022\, approfondire le notizie riguardanti il consorzio INBASSAROMAGNA\, condividere la programmazione del 2023 e per altre considerazioni e condivisioni.
URL:https://www.inbassaromagna.it/event/riunione-fusignano-e-piu/
LOCATION:Fusignano\, Fusignano\, Italy
GEO:44.468347803914;11.958717085951
END:VEVENT
END:VCALENDAR