BEGIN:VCALENDAR
VERSION:2.0
PRODID:-//IN BASSA ROMAGNA - ECPv5.8.2//NONSGML v1.0//EN
CALSCALE:GREGORIAN
METHOD:PUBLISH
X-WR-CALNAME:IN BASSA ROMAGNA
X-ORIGINAL-URL:https://www.inbassaromagna.it
X-WR-CALDESC:Eventi per IN BASSA ROMAGNA
BEGIN:VTIMEZONE
TZID:Europe/Rome
BEGIN:DAYLIGHT
TZOFFSETFROM:+0100
TZOFFSETTO:+0200
TZNAME:CEST
DTSTART:20220327T010000
END:DAYLIGHT
BEGIN:STANDARD
TZOFFSETFROM:+0200
TZOFFSETTO:+0100
TZNAME:CET
DTSTART:20221030T010000
END:STANDARD
END:VTIMEZONE
BEGIN:VEVENT
DTSTART;TZID=Europe/Rome:20220115T210000
DTEND;TZID=Europe/Rome:20220115T233000
DTSTAMP:20260421T200551
CREATED:20220110T103735Z
LAST-MODIFIED:20220110T104010Z
UID:786-1642280400-1642289400@www.inbassaromagna.it
SUMMARY:RASSEGNA DIALETTALE - TEATRO GOLDONI
DESCRIPTION:Nelle serate invernali del sabato\, da gennaio ad aprile\, il palcoscenico del Goldoni vedrà protagoniste quattro tra le più titolate compagnie romagnole di Teatro dialettale. Risate e buonumore assicurati il suo numeroso ed affezionato pubblico. 15 gennaio\, 12 febbraio\, 12 marzo e 9 aprile 2022. \nPROGRAMMA \n15 gennaio\nCUMPAGNÌ DLA ZERCIA di Forlì\nLa sumara ad Tugnara\ncommedia in tre atti di Paolo Maltoni e Giovanni Spagnoli\nregia di Claudio Tura\nLa commedia tratta di una vicenda familiare tutto sommato semplice ma diffusa tra le famiglie patriarcali romagnole di qualche decennio fa. La vicenda è intrisa di una forte umanità\, basata su valori e ideali ben radicati quali la famiglia\, l’amore per la propria terra\, la lealtà\, l’onestà\, la tolleranza\, che escono vincenti nei confronti di aspetti negativi quali l’intolleranza e la cupidigia.\nUna commedia che cerca di trasmettere la validità di quegli ideali che costituiscono le fondamenta di ogni società civile in modo vivace e divertente\, suscitando momenti di autentica ilarità. \n12 febbraio\nGAD Città di Lugo\nI Voltagabbana\ntre atti comici di Guido Lucchini\nregia di Primo Buldrini\nSiamo negli anni ’50\, quando gli ideali politici erano una forza. Ciò nonostante\, pur mantenendo fede al proprio partito\, davanti al “Dio denaro”\, la famiglia protagonista di questa storia\, si veste di vari colori politici! \n12 marzo\nPICCOLO TEATRO Città di Ravenna\nLa vitoria d’Macarò\ncommedia in tre atti di Ermanno Cola\nadattamento e regia di Mauro Casadio\nIl carattere scherzoso dei romagnoli è proverbiale e\, soprattutto qualche decennio fa\, quando i diversivi per godersi il tempo libero erano molto meno numerosi di oggi\, questo si manifestava quotidianamente e\, spesso\, mostrando una fantasia spregiudicata e al tempo stesso una crudeltà ai limiti del paradossale. Ermanno Cola\, testimone del tempo\, ha dunque trovato l’ispirazione per scrivere il testo di questa commedia: lo scherzo che si materializza attraverso una gara senza premi\, ma solamente con la soddisfazione di trovarsi primo nella classifica di “e piò balusa”. \n9 aprile\nCDT La Rumagnola di Bagnacavallo\nLa banca de prit\ntre atti brillanti di Stefano Palmucci\nregia di Arturo Parmiani\nQuesta commedia prende spunto da un fatto realmente accaduto cento anni fa e si basa su documenti dell’epoca\, sui ricordi tramandati e raccontati dai vecchi ai giovani\, ed è costruita con la fantasia e la perizia dell’autore. Da questa miscela è nato un testo teatrale pieno di umanità\, molto brillante\, con personaggi variegati e veri che accompagnano il pubblico in un racconto di molti anni fa che ci fa capire che tanti problemi di allora sono ancora presenti oggi. \nUlteriori informazioni\nNuovi abbonamenti ai 4 spettacoli della rassegna (al costo di €25) da sabato 18 a mercoledì 22 dicembre dalle ore 10 alle ore 13 presso la biglietteria del Teatro\nI giorni di rappresentazione la Biglietteria aprirà alle ore 20.00. \nTeatro C. Goldoni\nIndirizzo: Piazza della Libertà\, 18 – Bagnacavallo – 48012 (RA)\nTel: 0545 64330 Accademia Perduta Romagna Teatri\nE-mail: teatrogoldoni@accademiaperduta.it\nURL: http://www.accademiaperduta.it/ \nBiglietto: €\nOrari: inizio spettacoli ore 21 \nCome arrivare\nTeatro Goldoni\, nella centrale piazza della Libertà. Parcheggio auto e pullman nelle vicinanze. Accessibile ai diversamente abili.
URL:https://www.inbassaromagna.it/event/rassegna-dialettale-teatro-goldoni/2022-01-15/
LOCATION:Teatro Goldoni\, Italy
ATTACH;FMTTYPE=image/jpeg:https://www.inbassaromagna.it/wp-content/uploads/2022/01/21_small_bagnacavallo.jpg
END:VEVENT
END:VCALENDAR