BEGIN:VCALENDAR
VERSION:2.0
PRODID:-//IN BASSA ROMAGNA - ECPv5.8.2//NONSGML v1.0//EN
CALSCALE:GREGORIAN
METHOD:PUBLISH
X-WR-CALNAME:IN BASSA ROMAGNA
X-ORIGINAL-URL:https://www.inbassaromagna.it
X-WR-CALDESC:Eventi per IN BASSA ROMAGNA
BEGIN:VTIMEZONE
TZID:Europe/Rome
BEGIN:DAYLIGHT
TZOFFSETFROM:+0100
TZOFFSETTO:+0200
TZNAME:CEST
DTSTART:20220327T010000
END:DAYLIGHT
BEGIN:STANDARD
TZOFFSETFROM:+0200
TZOFFSETTO:+0100
TZNAME:CET
DTSTART:20221030T010000
END:STANDARD
END:VTIMEZONE
BEGIN:VEVENT
DTSTART;VALUE=DATE:20220403
DTEND;VALUE=DATE:20220404
DTSTAMP:20260421T174939
CREATED:20220201T142418Z
LAST-MODIFIED:20220201T142418Z
UID:807-1648944000-1649030399@www.inbassaromagna.it
SUMMARY:RABOJ
DESCRIPTION:Torna a Villanova di Bagnacavallo\, Rabòj la mostra mercato di primavera. Due le date dell’evento: domenica 3 aprile e domenica 1 maggio 2022.\nDate di recupero in caso di maltempo: 10 aprile e 15 maggio). \nRabòj è un termine dialettale locale che un tempo indicava lo scarto della lavorazione delle erbe palustri\, attività che ha connotato il nostro paese\, Villanova\, fino agli anni Sessanta del secolo scorso e che trova oggi nell’Ecomuseo la principale testimonianza.\nIn quest’ottica dello scarto\, del suo riutilizzo e recupero\, del “non si butta via niente”\, si lega questa nuova veste della mostra mercato che invita allo scambio ed acquisti sostenibili\, creando un circolo virtuoso che dia nuova vita alle cose. \nCome partecipare come espositore: la domanda di partecipazione può essere inviata via mail all’indirizzo: erbepalustri.associazione@gmail.com o telefonando al 0545 280920 \nL’evento si svolgerà nel rispetto delle regole relative al periodo pandemico. \nUlteriori informazioni\nCentro cittadino\nVillanova di Bagnacavallo – 48020 (RA)\nTel: 0545 47122 Ecomuseo Erbe Palustri\nFax: 0545 47950\nE-mail: erbepalustri.associazione@gmail.com\nURL: https://ecomuseoerbepalustri.it/ \nCome arrivare\nIl mercatino si svolge nella frazione di Villanova\, a circa 7 km da Bagnacavallo. Parcheggi nelle vie circostanti il centro del paese. Accessibile ai diversamente abili. \nPrezzo: gratuito\nOrari: dalle ore 9.00
URL:https://www.inbassaromagna.it/event/raboj/2022-04-03/
LOCATION:Villanova di Bagnacavallo\, Villanova di Bagnacavallo\, Italy
ATTACH;FMTTYPE=image/jpeg:https://www.inbassaromagna.it/wp-content/uploads/2022/02/cirapame13.jpg
END:VEVENT
END:VCALENDAR