BEGIN:VCALENDAR
VERSION:2.0
PRODID:-//IN BASSA ROMAGNA - ECPv5.8.2//NONSGML v1.0//EN
CALSCALE:GREGORIAN
METHOD:PUBLISH
X-WR-CALNAME:IN BASSA ROMAGNA
X-ORIGINAL-URL:https://www.inbassaromagna.it
X-WR-CALDESC:Eventi per IN BASSA ROMAGNA
BEGIN:VTIMEZONE
TZID:Europe/Rome
BEGIN:DAYLIGHT
TZOFFSETFROM:+0100
TZOFFSETTO:+0200
TZNAME:CEST
DTSTART:20230326T010000
END:DAYLIGHT
BEGIN:STANDARD
TZOFFSETFROM:+0200
TZOFFSETTO:+0100
TZNAME:CET
DTSTART:20231029T010000
END:STANDARD
END:VTIMEZONE
BEGIN:VEVENT
DTSTART;TZID=Europe/Rome:20231210T123000
DTEND;TZID=Europe/Rome:20231210T180000
DTSTAMP:20260421T103743
CREATED:20231128T154233Z
LAST-MODIFIED:20231129T085044Z
UID:1982-1702211400-1702231200@www.inbassaromagna.it
SUMMARY:Accendiamo il Natale - Fusignano è Più
DESCRIPTION:Domenica 10 dicembre  \n\nBocciodromo (Via Vittorio Veneto 5) | ore 12.30\n\nPranzo di Natale\, con lo chef Nuccio Brancato e musica di dj Romeo\, in collaborazione con il Luck Bar \n  \n\nPiazza Corelli | ore 15\n\nun giro con Babbo Natale in bici \nZampogne Zampanò\, musica itinerante \n  \nPer informazioni e prenotazioni (entro il 5 dicembre): 3290712713 \n  \nPer saperne di più
URL:https://www.inbassaromagna.it/event/pranzo-di-natale-fusignano-e-piu/
LOCATION:Fusignano\, Fusignano\, Italy
CATEGORIES:Spettacoli
ATTACH;FMTTYPE=image/jpeg:https://www.inbassaromagna.it/wp-content/uploads/2023/11/399461509_6516257989882_1169506508922396417_n-1.jpg
GEO:44.468347803914;11.958717085951
END:VEVENT
END:VCALENDAR