BEGIN:VCALENDAR
VERSION:2.0
PRODID:-//IN BASSA ROMAGNA - ECPv5.8.2//NONSGML v1.0//EN
CALSCALE:GREGORIAN
METHOD:PUBLISH
X-WR-CALNAME:IN BASSA ROMAGNA
X-ORIGINAL-URL:https://www.inbassaromagna.it
X-WR-CALDESC:Eventi per IN BASSA ROMAGNA
BEGIN:VTIMEZONE
TZID:Europe/Rome
BEGIN:DAYLIGHT
TZOFFSETFROM:+0100
TZOFFSETTO:+0200
TZNAME:CEST
DTSTART:20210328T010000
END:DAYLIGHT
BEGIN:STANDARD
TZOFFSETFROM:+0200
TZOFFSETTO:+0100
TZNAME:CET
DTSTART:20211031T010000
END:STANDARD
END:VTIMEZONE
BEGIN:VEVENT
DTSTART;VALUE=DATE:20211107
DTEND;VALUE=DATE:20211108
DTSTAMP:20260421T155216
CREATED:20211029T094935Z
LAST-MODIFIED:20211029T094935Z
UID:634-1636243200-1636329599@www.inbassaromagna.it
SUMMARY:PEDALATE ALLA SCOPERTA DELLA LAND ART
DESCRIPTION:Per gli amanti della bicicletta\, dell’arte e della natura\, due biciclettate alla scoperta della Land Art in Bassa Romagna. Il 7 e il 14 novembre 2021 si percorreranno itinerari immersi nella campagna\, accompagnati da Ciclo Guide Lugo\, alla scoperta del nostro territorio e alla ricerca delle opere di and Art realizzate durante le tre edizioni del Festival Terrena\, con momenti di convivialità con prodotti locali. \n7 novembre 2021\nLand Art – prima puntata\nItinerario da Alfonsine a Sant’Agata Sul Santerno (Km 35 circa) attraversando campagne\, corsi d’acqua e piccoli centri\, tra le opere di Land Art realizzate durante le varie edizioni del Festival Terrena.\nLuogo di ritrovo: Alfonsine al Parco Millegocce\, Via Reale 245D\nPartenza ore 10.00 \nLa pedalata è gratuita e comprende:\nAccompagnamento di Ciclo Guide\nAssistenza tecnica\nMerenda con piadina a Sant’Agata\nPossibilità di rientro con Pullman (prenotazione obbligatoria)\nCapienza massima bici per il rientro 30 posti \nServizi a pagamento:\nPranzo a Conselice presso il Boschetto Dalle Vacche (Bosco Urbano) con cartoccio di cappelletti ed acqua (da prenotare) al costo di 10 euro\nPossibilità nolo bici (da prenotare) al costo di 5 euro \nPer info e prenotazioni (entro e non oltre il 03/11/2021):\nturismo@unione.labassaromagna.it – 0545-280898 (Uff. Turismo)\ncicloguide@racine.ra.it – 347 047 5029 (Ciclo Guide) \nClicca qui per IL VOLANTINO \n  \n14 novembre 2021\nIn Giro per la Land Art\nUna pedalata da Bagnara di Romagna a Villanova di Bagnacavallo (Km 32 circa) alla scoperta del nostro territorio\, tra scorci e paesaggi\, storia e natura\, a caccia di altre opere di Land Art.\nLuogo di ritrovo: Bagnara di Romagna\, Piazza IV Novembre\nPartenza ore 10.00 \nLa pedalata è gratuita e comprende:\nAccompagnamento di Ciclo Guide\nAssistenza tecnica\nMerenda A Villanova c/o Ecomuseo delle Erbe Palustri con visita\nPossibilità di rientro con Pullman (prenotazione obbligatoria)\nCapienza massima bici per il rientro 30 posti \nServizi a pagamento:\nPranzo a Fusignano presso il Boschetto (Bosco delle lucciole) con cartoccio di cappelletti ed acqua (da prenotare) al costo di 10 euro\nPossibilità nolo bici (da prenotare) al costo di 5 euro \nPer info e prenotazioni (entro e non oltre il 10/11/2021)\nturismo@unione.labassaromagna.it – 0545-280898 (Uff. Turismo)\ncicloguide@racine.ra.it – 347 047 5029 (Ciclo Guide) \nClicca qui per IL VOLANTINO \nI posti sono limitati.\nIn caso di maltempo le pedalate saranno annullate.
URL:https://www.inbassaromagna.it/event/pedalate-alla-scoperta-della-land-art/2021-11-07/
LOCATION:Bassa Romagna\, Italy
ATTACH;FMTTYPE=image/jpeg:https://www.inbassaromagna.it/wp-content/uploads/2021/10/bicicletta-1-300x200-1.jpg
END:VEVENT
END:VCALENDAR