BEGIN:VCALENDAR
VERSION:2.0
PRODID:-//IN BASSA ROMAGNA - ECPv5.8.2//NONSGML v1.0//EN
CALSCALE:GREGORIAN
METHOD:PUBLISH
X-WR-CALNAME:IN BASSA ROMAGNA
X-ORIGINAL-URL:https://www.inbassaromagna.it
X-WR-CALDESC:Eventi per IN BASSA ROMAGNA
BEGIN:VTIMEZONE
TZID:Europe/Rome
BEGIN:DAYLIGHT
TZOFFSETFROM:+0100
TZOFFSETTO:+0200
TZNAME:CEST
DTSTART:20220327T010000
END:DAYLIGHT
BEGIN:STANDARD
TZOFFSETFROM:+0200
TZOFFSETTO:+0100
TZNAME:CET
DTSTART:20221030T010000
END:STANDARD
END:VTIMEZONE
BEGIN:VEVENT
DTSTART;VALUE=DATE:20221224
DTEND;VALUE=DATE:20221225
DTSTAMP:20260421T165530
CREATED:20221222T133255Z
LAST-MODIFIED:20221222T133255Z
UID:1108-1671840000-1671926399@www.inbassaromagna.it
SUMMARY:Panettone e Vin Brulè
DESCRIPTION:Il 24 dicembre in Piazza Matteotti\, dopo la messa della vigilia\, Panettone e Vin Brulè\, a cura della Pro Loco. \n 
URL:https://www.inbassaromagna.it/event/panettone-e-vin-brule/
LOCATION:Massa Lombarda\, Massa Lombarda\, Italy
END:VEVENT
END:VCALENDAR