BEGIN:VCALENDAR
VERSION:2.0
PRODID:-//IN BASSA ROMAGNA - ECPv5.8.2//NONSGML v1.0//EN
CALSCALE:GREGORIAN
METHOD:PUBLISH
X-WR-CALNAME:IN BASSA ROMAGNA
X-ORIGINAL-URL:https://www.inbassaromagna.it
X-WR-CALDESC:Eventi per IN BASSA ROMAGNA
BEGIN:VTIMEZONE
TZID:Europe/Rome
BEGIN:DAYLIGHT
TZOFFSETFROM:+0100
TZOFFSETTO:+0200
TZNAME:CEST
DTSTART:20210328T010000
END:DAYLIGHT
BEGIN:STANDARD
TZOFFSETFROM:+0200
TZOFFSETTO:+0100
TZNAME:CET
DTSTART:20211031T010000
END:STANDARD
END:VTIMEZONE
BEGIN:VEVENT
DTSTART;VALUE=DATE:20210903
DTEND;VALUE=DATE:20210906
DTSTAMP:20260421T142841
CREATED:20210825T135452Z
LAST-MODIFIED:20210825T135452Z
UID:431-1630627200-1630886399@www.inbassaromagna.it
SUMMARY:NELL'ARENA DELLE BALLE DI PAGLIA
DESCRIPTION:Nella campagna Cotignolese\, dove il fiume Senio incontra il Canale Emiliano Romagnolo\, l’associazione Primola organizza l’Arena delle balle\, l’unico anfiteatro di paglia della Romagna. Lo scenario naturale è quello di un’ampia golena del fiume illuminata dalla luna e dalle stelle\, dominata da un ordinato boschetto di acacie che fanno da sfondo al palcoscenico. Un’arena greca effimera immersa nella campagna. Concerti\, teatro\, narrazioni\, land art\, esplorazioni ed incontri poetici\, che nascono sul filo della paglia e dell’immaginazione. \nTre puntate in altrettanti luoghi di Cotignola\, con una miriade di incontri fatti come sempre di teatro\, musica\, narrazione\, convivialità e arte di terra e di fiume. \nPROGRAMMA 2021 \nUltimo spettacolo 1 agosto ore 21\n“L’arte del Selfie del Medioevo” di Giovanni Succi: “Rime Petrose” di Dante in un racconto intenso e a tratti spiazzante che ci fa incontrare un Sommo Poeta al di là degli stereotipi. Un racconto a braccio\, di sola voce e chitarra acustica\, informale\, ironico e rilassato\, ma storicamente fondato. Si alternano canzoni e storie di un Dante alle prese con l’amore sensuale e carnale. Un Dante vivo nella vita reale del suo tempo.\nore 22.30\nMuvic: Le performance di Muvic (Andrea Lepri e Paolo Baldini) sono un’interazione tra musica e film\, dove il re-sampling audio e la manipolazione delle immagini seguono una nuova struttura sonora. La fusione è un caos organico\, imprevedibile\, con un singolare sapore oscuro e psichedelico\, diversamente ballabile. Per l’Arena eseguirà una sonorizzazione Live di Olympia di Leni Riefenstahl\, pilotata da Susanna Innella.\n——————\n🍲 🍻 Tutte le sere dalle 19.30 sarà possibile rifocillarsi al nuovo Bar delle acacie.\n——————\nI posti sono limitati; per prenotare ci sono tre modi:\n– Contattare il numero 333 418 3149 (dalle 16 alle 19);\n– Scrivere a arenadelleballedipaglia@gmail.com;\nAndare sul sito (solo fino alla mezzanotte del giorno precedente l’evento): https://oooh.events/organizzatore/primola-centro-di-promozione-culturale-e-ricerca-di-cotignola-aps/\nPROGRAMMA di settembre\nFuori dalle balle – Nella piazza di Cotignola\nPiazza Vittorio Emanuele II \n3 settembre ore 21.30\nThe Millenary Preacher\nI media erroneamente identificano il nome di “Colonel V.” nella figura di Paul Venturi. In realtà\, Colonel V. era un performer itinerante senza fissa dimora che\, dopo aver viaggiato in lungo e in largo\, ha lasciato in eredità a Paul alcuni preziosi testi da musicare. Proprio da ciò nasce “The Military Preacher”\, disco di esordio della band che ha scelto proprio “Colonel V.” come nome di battesimo: le radici sono quelle del Delta del Po\, ma il risultato è un blues dagli standard rivisti\, con marcati elementi di elettronica\, world e sfumature disco music. I Colonel V. sono Paul Venturi (voce\, banjo e chitarre)\, Piero Perelli (batteria e percussioni)\, Tiziano Popoli (multitrack sequenziale e synth analogico)\, Sara Zannoni (voce e cori). \n4 settembre ore 21.30\nAyom\nAyom è la Signora della Musica che vive dentro il tamburo. Questa forza è l’anima del progetto: un mix di ritmi spesso sconosciuti con testi in portoghese\, spagnolo\, yoruba e Kimbundù che raccontano di amori\, incontri e feste. La band si è recentemente aggiudicata il Songlines Music Awards 2021 nella categoria “Miglior gruppo”. \n5 settembre ore 21\nProiezione del film Extraliscio – Punk da balera\nUn buco di valzer nella nebbia della Romagna. La regista Elisabetta Sgarbi\, che sarà presente alla serata\, ci racconta la storia di Extraliscio\, duo musicale composto da Moreno Conficconi detto il Biondo\, capo orchestra di Raoul Casadei\, e da Mirco Mariani. \nIngresso a offerta libera.\nÈ consigliabile prenotare il posto scrivendo a arenadelleballedipaglia@gmail.com o contattando il numero 333 4183149 (dalle 16 alle 19). \nUlteriori informazioni\nArena delle balle di paglia\nCotignola\nTel: 333 4183149 (ore 18.00 – 20.00) info Primola\nE-mail: info@primolacotignola.it\nURL: http://www.primolacotignola.it/\nFacebook: https://www.facebook.com/arenadelleballe \nCome arrivare\nL’arena si trova nelle campagne di Cotignola dove il Canale Emiliano Romagnola incontra il Senio. Si può parcheggiare nel campo sportivo di Cotignola (via Cenacchio)\, per poi arrivare a piedi o in bicicletta\, attraversando circa 1200 metri di campagna. Portare anche una torcia. Servizio di navetta per persone con mobilità ridotta (prenotazioni allo 333 4183149\, attivo i giorni dell’arena dalle 18.30). È possibile andare all’Arena in bicicletta: da Fusignano\, Lugo\, Faenza\, Bagnacavallo\, insieme agli amici di Primola\, per pedalare insieme nella notte. Per prenotare un viaggio in bici in compagnia\, tel. 333 4183149 (ore 18.00-20.00).
URL:https://www.inbassaromagna.it/event/nellarena-delle-balle-di-paglia/
LOCATION:Cotignola\, Cotignola\, Italy
CATEGORIES:Spettacoli
ATTACH;FMTTYPE=image/jpeg:https://www.inbassaromagna.it/wp-content/uploads/2021/08/arena_balle_di_paglia_2021.jpg
END:VEVENT
END:VCALENDAR