BEGIN:VCALENDAR
VERSION:2.0
PRODID:-//IN BASSA ROMAGNA - ECPv5.8.2//NONSGML v1.0//EN
CALSCALE:GREGORIAN
METHOD:PUBLISH
X-WR-CALNAME:IN BASSA ROMAGNA
X-ORIGINAL-URL:https://www.inbassaromagna.it
X-WR-CALDESC:Eventi per IN BASSA ROMAGNA
BEGIN:VTIMEZONE
TZID:Europe/Rome
BEGIN:DAYLIGHT
TZOFFSETFROM:+0100
TZOFFSETTO:+0200
TZNAME:CEST
DTSTART:20220327T010000
END:DAYLIGHT
BEGIN:STANDARD
TZOFFSETFROM:+0200
TZOFFSETTO:+0100
TZNAME:CET
DTSTART:20221030T010000
END:STANDARD
END:VTIMEZONE
BEGIN:VEVENT
DTSTART;TZID=Europe/Rome:20221221T193000
DTEND;TZID=Europe/Rome:20221221T233000
DTSTAMP:20260421T170636
CREATED:20221221T113141Z
LAST-MODIFIED:20221221T113141Z
UID:1046-1671651000-1671665400@www.inbassaromagna.it
SUMMARY:Natale di Pace
DESCRIPTION:A Bagnacavallo\, in Piazza della Libertà\, il 21 dicembre alle 19.30 si terrà Natale di Pace: una lettura di pensieri e uno scambio di auguri tra i partecipanti del corso di italiano per stranieri\, a cura del Coordinamento per la Pace\, CPIA e altre associazioni solidali. \n  \nUlteriori informazioni
URL:https://www.inbassaromagna.it/event/natale-di-pace/
LOCATION:Bagnacavallo\, Bagnacavallo\, Italy
END:VEVENT
END:VCALENDAR