BEGIN:VCALENDAR
VERSION:2.0
PRODID:-//IN BASSA ROMAGNA - ECPv5.8.2//NONSGML v1.0//EN
CALSCALE:GREGORIAN
METHOD:PUBLISH
X-WR-CALNAME:IN BASSA ROMAGNA
X-ORIGINAL-URL:https://www.inbassaromagna.it
X-WR-CALDESC:Eventi per IN BASSA ROMAGNA
BEGIN:VTIMEZONE
TZID:Europe/Rome
BEGIN:DAYLIGHT
TZOFFSETFROM:+0100
TZOFFSETTO:+0200
TZNAME:CEST
DTSTART:20220327T010000
END:DAYLIGHT
BEGIN:STANDARD
TZOFFSETFROM:+0200
TZOFFSETTO:+0100
TZNAME:CET
DTSTART:20221030T010000
END:STANDARD
END:VTIMEZONE
BEGIN:VEVENT
DTSTART;TZID=Europe/Rome:20221222T170000
DTEND;TZID=Europe/Rome:20221222T183000
DTSTAMP:20260421T154814
CREATED:20221221T114542Z
LAST-MODIFIED:20221221T114542Z
UID:1048-1671728400-1671733800@www.inbassaromagna.it
SUMMARY:Natale con Pierino... e con il Lupo
DESCRIPTION:Il 22 dicembre alle 17 nell’ex convento di San Francesco si terrà Natale con Pierino e… con il lupo\, una favola per bambini dai 5 anni raccontata dalla voce narrante di Luca Andreini\, musicata dalla Scuola comunale di musica gestita dall’associazione Doremi. L’evento è a cura della Biblioteca Taroni\, in collaborazione con Comunicando. \n  \nUlteriori informazioni \nLa partecipazione è gratuita. La prenotazione è obbligatoria (fino al numero massimo di 50 partecipanti) al 0545 280912 | biblioteca@comune.bagnacavallo.ra.it \nSala delle capriate | Ex convento di San Francesco | ingresso da via Cadorna 14 – 48012 Bagnacavallo (RA) \n 
URL:https://www.inbassaromagna.it/event/natale-con-pierino-e-con-il-lupo/
LOCATION:Bagnacavallo\, Bagnacavallo\, Italy
END:VEVENT
END:VCALENDAR