BEGIN:VCALENDAR
VERSION:2.0
PRODID:-//IN BASSA ROMAGNA - ECPv5.8.2//NONSGML v1.0//EN
CALSCALE:GREGORIAN
METHOD:PUBLISH
X-WR-CALNAME:IN BASSA ROMAGNA
X-ORIGINAL-URL:https://www.inbassaromagna.it
X-WR-CALDESC:Eventi per IN BASSA ROMAGNA
BEGIN:VTIMEZONE
TZID:Europe/Rome
BEGIN:DAYLIGHT
TZOFFSETFROM:+0100
TZOFFSETTO:+0200
TZNAME:CEST
DTSTART:20220327T010000
END:DAYLIGHT
BEGIN:STANDARD
TZOFFSETFROM:+0200
TZOFFSETTO:+0100
TZNAME:CET
DTSTART:20221030T010000
END:STANDARD
END:VTIMEZONE
BEGIN:VEVENT
DTSTART;VALUE=DATE:20221227
DTEND;VALUE=DATE:20221229
DTSTAMP:20260421T184743
CREATED:20221221T122052Z
LAST-MODIFIED:20221221T122052Z
UID:1057-1672099200-1672271999@www.inbassaromagna.it
SUMMARY:Natale alla scuola d'arte
DESCRIPTION:Il 27 e il 28 dicembre la Scuola Comunale d’Arte “Bartolomeo Ramenghi” apre le porte per due pomeriggi dedicati ai bambini\, ai ragazzi e agli adulti che desiderano sperimentare tecniche particolari di ceramica\, disegno\, incisione e pittura. \n  \nUlteriori informazioni \nTutti i workshop sono gratuiti. \nIl materiale necessario sarà fornito dalla Scuola Comunale d’Arte. \nPer prenotare: 0545 280855 | scuoladisegno@comune.bagnacavallo.ra.it
URL:https://www.inbassaromagna.it/event/natale-alla-scuola-darte/
LOCATION:Bagnacavallo\, Bagnacavallo\, Italy
END:VEVENT
END:VCALENDAR