BEGIN:VCALENDAR
VERSION:2.0
PRODID:-//IN BASSA ROMAGNA - ECPv5.8.2//NONSGML v1.0//EN
CALSCALE:GREGORIAN
METHOD:PUBLISH
X-WR-CALNAME:IN BASSA ROMAGNA
X-ORIGINAL-URL:https://www.inbassaromagna.it
X-WR-CALDESC:Eventi per IN BASSA ROMAGNA
BEGIN:VTIMEZONE
TZID:Europe/Rome
BEGIN:DAYLIGHT
TZOFFSETFROM:+0100
TZOFFSETTO:+0200
TZNAME:CEST
DTSTART:20210328T010000
END:DAYLIGHT
BEGIN:STANDARD
TZOFFSETFROM:+0200
TZOFFSETTO:+0100
TZNAME:CET
DTSTART:20211031T010000
END:STANDARD
END:VTIMEZONE
BEGIN:VEVENT
DTSTART;TZID=Europe/Rome:20211212T100000
DTEND;TZID=Europe/Rome:20211212T180000
DTSTAMP:20260421T232839
CREATED:20211201T104130Z
LAST-MODIFIED:20211201T104130Z
UID:686-1639303200-1639332000@www.inbassaromagna.it
SUMMARY:Mercatino delle Meraviglie di Natale
DESCRIPTION:Mercatino delle Meraviglie di Natale \ndomenica 12 dicembre dalle 10 alle 18 in centro storico \nProgramma\nore 10 battesimo della sella e Mattoncini in Piazza\, laboratorio di Lego\nore 11 Tombola dei libri con premi\nore 14.30 Arriva Babbo Natale! Portagli la tua letterina e scattati una foto con lui\nore 15 Laboratorio d’arte\nore 16 Concerto di Natale del coro “Ettore e Antonio Ricci”\n(le attività sono a pagamento\, per info 347 8658389)
URL:https://www.inbassaromagna.it/event/mercatino-delle-meraviglie-di-natale/
LOCATION:Centro storico di Sant’Agata sul Santerno\, Italy
CATEGORIES:Mercatini
ATTACH;FMTTYPE=image/jpeg:https://www.inbassaromagna.it/wp-content/uploads/2021/12/natale2018-290x300-1.jpg
END:VEVENT
END:VCALENDAR