BEGIN:VCALENDAR
VERSION:2.0
PRODID:-//IN BASSA ROMAGNA - ECPv5.8.2//NONSGML v1.0//EN
CALSCALE:GREGORIAN
METHOD:PUBLISH
X-WR-CALNAME:IN BASSA ROMAGNA
X-ORIGINAL-URL:https://www.inbassaromagna.it
X-WR-CALDESC:Eventi per IN BASSA ROMAGNA
BEGIN:VTIMEZONE
TZID:Europe/Rome
BEGIN:DAYLIGHT
TZOFFSETFROM:+0100
TZOFFSETTO:+0200
TZNAME:CEST
DTSTART:20230326T010000
END:DAYLIGHT
BEGIN:STANDARD
TZOFFSETFROM:+0200
TZOFFSETTO:+0100
TZNAME:CET
DTSTART:20231029T010000
END:STANDARD
END:VTIMEZONE
BEGIN:VEVENT
DTSTART;TZID=Europe/Rome:20230116T080000
DTEND;TZID=Europe/Rome:20230116T080000
DTSTAMP:20260421T154742
CREATED:20221222T135307Z
LAST-MODIFIED:20221222T135307Z
UID:1114-1673856000-1673856000@www.inbassaromagna.it
SUMMARY:Mercatino degli hobbisti
DESCRIPTION:La 3° domenica di ogni mese si tiene in Piazza Umberto I dalle 8 alle 18 il Mercatino degli hobbisti. La 4° domenica del mese il mercatino si sposta in Largo Garotti (via Lunga\, angolo via San Vitale). \n  \nUlteriori informazioni \nper informazioni e prenotazione spazi 347 9979805
URL:https://www.inbassaromagna.it/event/mercatino-degli-hobbisti/
LOCATION:Centro storico di Sant’Agata sul Santerno\, Italy
END:VEVENT
END:VCALENDAR