BEGIN:VCALENDAR
VERSION:2.0
PRODID:-//IN BASSA ROMAGNA - ECPv5.8.2//NONSGML v1.0//EN
CALSCALE:GREGORIAN
METHOD:PUBLISH
X-WR-CALNAME:IN BASSA ROMAGNA
X-ORIGINAL-URL:https://www.inbassaromagna.it
X-WR-CALDESC:Eventi per IN BASSA ROMAGNA
BEGIN:VTIMEZONE
TZID:Europe/Rome
BEGIN:DAYLIGHT
TZOFFSETFROM:+0100
TZOFFSETTO:+0200
TZNAME:CEST
DTSTART:20210328T010000
END:DAYLIGHT
BEGIN:STANDARD
TZOFFSETFROM:+0200
TZOFFSETTO:+0100
TZNAME:CET
DTSTART:20211031T010000
END:STANDARD
END:VTIMEZONE
BEGIN:VEVENT
DTSTART;TZID=Europe/Rome:20211204T090000
DTEND;TZID=Europe/Rome:20211204T200000
DTSTAMP:20260421T153835
CREATED:20211201T102511Z
LAST-MODIFIED:20211201T102621Z
UID:673-1638608400-1638648000@www.inbassaromagna.it
SUMMARY:MERCATINI DI NATALE A LUGO
DESCRIPTION:Mercatini di Natale \n4-11-18 dicembre dalle 9 alle 20 \nLogge del Pavaglione\n \n 
URL:https://www.inbassaromagna.it/event/mercatini-di-natale-a-lugo/2021-12-04/
LOCATION:Logge del Pavaglione\, Italy
CATEGORIES:Mercatini
ATTACH;FMTTYPE=image/jpeg:https://www.inbassaromagna.it/wp-content/uploads/2021/12/WhatsApp-Image-2021-12-01-at-11.24.46.jpeg
END:VEVENT
END:VCALENDAR