BEGIN:VCALENDAR
VERSION:2.0
PRODID:-//IN BASSA ROMAGNA - ECPv5.8.2//NONSGML v1.0//EN
CALSCALE:GREGORIAN
METHOD:PUBLISH
X-WR-CALNAME:IN BASSA ROMAGNA
X-ORIGINAL-URL:https://www.inbassaromagna.it
X-WR-CALDESC:Eventi per IN BASSA ROMAGNA
BEGIN:VTIMEZONE
TZID:Europe/Rome
BEGIN:DAYLIGHT
TZOFFSETFROM:+0100
TZOFFSETTO:+0200
TZNAME:CEST
DTSTART:20230326T010000
END:DAYLIGHT
BEGIN:STANDARD
TZOFFSETFROM:+0200
TZOFFSETTO:+0100
TZNAME:CET
DTSTART:20231029T010000
END:STANDARD
END:VTIMEZONE
BEGIN:VEVENT
DTSTART;VALUE=DATE:20230415
DTEND;VALUE=DATE:20230417
DTSTAMP:20260421T103753
CREATED:20230407T085228Z
LAST-MODIFIED:20230407T085228Z
UID:1400-1681516800-1681689599@www.inbassaromagna.it
SUMMARY:Lugo Vintage Festival
DESCRIPTION:Sabato 15 e domenica 16 aprile torna il Lugo Vintage Festival: quasi due chilometri espositivi e migliaia di visitatori provenienti da tutta Italia\, alla ricerca di tesori da scovare tra gli oltre 300 banchi presenti nel centro storico del Comune di Lugo. La città si trasformerà in un archivio a cielo aperto di articoli di modernariato\, collezionismo\, abiti e accessori vintage\, vinili e molto altro. A completare il weekend food truck\, tattoo walk-in day\, musica\, mostre\, eventi collaterali. \n\nIngresso libero.\nOrari: sabato 15 aprile dalle 10 alle 20 | domenica 16 aprile dalle 10 alle 19\n\n\nPer saperne di più
URL:https://www.inbassaromagna.it/event/lugo-vintage-festival-5/
LOCATION:Lugo\, Lugo\, Italy
CATEGORIES:Cultura
ATTACH;FMTTYPE=image/jpeg:https://www.inbassaromagna.it/wp-content/uploads/2023/04/IMG_20221016_115637-01-scaled.jpeg
GEO:44.420515650472;11.911011637422
END:VEVENT
END:VCALENDAR