BEGIN:VCALENDAR
VERSION:2.0
PRODID:-//IN BASSA ROMAGNA - ECPv5.8.2//NONSGML v1.0//EN
CALSCALE:GREGORIAN
METHOD:PUBLISH
X-WR-CALNAME:IN BASSA ROMAGNA
X-ORIGINAL-URL:https://www.inbassaromagna.it
X-WR-CALDESC:Eventi per IN BASSA ROMAGNA
BEGIN:VTIMEZONE
TZID:Europe/Rome
BEGIN:DAYLIGHT
TZOFFSETFROM:+0100
TZOFFSETTO:+0200
TZNAME:CEST
DTSTART:20220327T010000
END:DAYLIGHT
BEGIN:STANDARD
TZOFFSETFROM:+0200
TZOFFSETTO:+0100
TZNAME:CET
DTSTART:20221030T010000
END:STANDARD
END:VTIMEZONE
BEGIN:VEVENT
DTSTART;TZID=Europe/Rome:20221224T200000
DTEND;TZID=Europe/Rome:20221224T233000
DTSTAMP:20260421T220936
CREATED:20221221T104620Z
LAST-MODIFIED:20221221T104620Z
UID:1038-1671912000-1671924600@www.inbassaromagna.it
SUMMARY:Luci per la Pace
DESCRIPTION:La fiaccolata Luci per la Pace avrà luogo il 24 dicembre. \nUlteriori informazioni \nPartenza: ore 20 da Piazza Monti – 48011 Alfonsine (RA) \nArrivo: Piazza Gramsci – 48011 Alfonsine (RA) \nper conoscere gli altri eventi di Alfonsine: Bassa Romagna Mia \n 
URL:https://www.inbassaromagna.it/event/luci-per-la-pace/
LOCATION:Alfonsine\, Alfonsine\, Italy
END:VEVENT
END:VCALENDAR