BEGIN:VCALENDAR
VERSION:2.0
PRODID:-//IN BASSA ROMAGNA - ECPv5.8.2//NONSGML v1.0//EN
CALSCALE:GREGORIAN
METHOD:PUBLISH
X-WR-CALNAME:IN BASSA ROMAGNA
X-ORIGINAL-URL:https://www.inbassaromagna.it
X-WR-CALDESC:Eventi per IN BASSA ROMAGNA
BEGIN:VTIMEZONE
TZID:Europe/Rome
BEGIN:DAYLIGHT
TZOFFSETFROM:+0100
TZOFFSETTO:+0200
TZNAME:CEST
DTSTART:20230326T010000
END:DAYLIGHT
BEGIN:STANDARD
TZOFFSETFROM:+0200
TZOFFSETTO:+0100
TZNAME:CET
DTSTART:20231029T010000
END:STANDARD
END:VTIMEZONE
BEGIN:VEVENT
DTSTART;VALUE=DATE:20230317
DTEND;VALUE=DATE:20230320
DTSTAMP:20260421T140738
CREATED:20230301T121308Z
LAST-MODIFIED:20230301T121308Z
UID:1309-1679011200-1679270399@www.inbassaromagna.it
SUMMARY:La TorRE Viola - Cotignola Invita
DESCRIPTION:Dal 17 al 19 marzo – in occasione della Festa della Segavecchia – si terrà a Cotignola in via Cavour La TorRe Viola\, con dj-set e angolo ristoro. \nPagina Facebook Cotignola Invita \nPer scoprire tutti gli eventi di carnevale 
URL:https://www.inbassaromagna.it/event/la-torre-viola-cotignola-invita/
LOCATION:Cotignola\, Cotignola\, Italy
CATEGORIES:Feste
ATTACH;FMTTYPE=image/jpeg:https://www.inbassaromagna.it/wp-content/uploads/2023/03/333809529_2314223312101138_3808593807287469823_n.jpg
END:VEVENT
END:VCALENDAR