BEGIN:VCALENDAR
VERSION:2.0
PRODID:-//IN BASSA ROMAGNA - ECPv5.8.2//NONSGML v1.0//EN
CALSCALE:GREGORIAN
METHOD:PUBLISH
X-WR-CALNAME:IN BASSA ROMAGNA
X-ORIGINAL-URL:https://www.inbassaromagna.it
X-WR-CALDESC:Eventi per IN BASSA ROMAGNA
BEGIN:VTIMEZONE
TZID:Europe/Rome
BEGIN:DAYLIGHT
TZOFFSETFROM:+0100
TZOFFSETTO:+0200
TZNAME:CEST
DTSTART:20230326T010000
END:DAYLIGHT
BEGIN:STANDARD
TZOFFSETFROM:+0200
TZOFFSETTO:+0100
TZNAME:CET
DTSTART:20231029T010000
END:STANDARD
END:VTIMEZONE
BEGIN:VEVENT
DTSTART;VALUE=DATE:20231005
DTEND;VALUE=DATE:20231009
DTSTAMP:20260421T150123
CREATED:20230829T091208Z
LAST-MODIFIED:20230928T122215Z
UID:1798-1696464000-1696809599@www.inbassaromagna.it
SUMMARY:61° SAGRA DEL VINO TIPICO ROMAGNOLO
DESCRIPTION:Dal 5 all’8 ottobre torna a Cotignola la 61° Sagra del vino tipico romagnolo con arte\, commercianti\, cibo e vino che riempiranno le vie della città in un’edizione all’insegna della collaborazione. \nLe serate – patrocinate dal Comune – sono a cura della Pro Loco\, con la collaborazione di Cotignola Invita\, che venerdì 6 e sabato 7 ottobre dalle 19 e domenica 8 ottobre dalle ore 16 nel Giardino della Torre d’Acuto porterà drink\, food truck e musica. \n 
URL:https://www.inbassaromagna.it/event/la-torre-viola-cotignola-invita-2/
LOCATION:Cotignola\, Cotignola\, Italy
CATEGORIES:Sagre
ATTACH;FMTTYPE=image/jpeg:https://www.inbassaromagna.it/wp-content/uploads/2023/08/380342297_695397829292596_7321431359608589892_n.jpg
END:VEVENT
END:VCALENDAR