BEGIN:VCALENDAR
VERSION:2.0
PRODID:-//IN BASSA ROMAGNA - ECPv5.8.2//NONSGML v1.0//EN
CALSCALE:GREGORIAN
METHOD:PUBLISH
X-WR-CALNAME:IN BASSA ROMAGNA
X-ORIGINAL-URL:https://www.inbassaromagna.it
X-WR-CALDESC:Eventi per IN BASSA ROMAGNA
BEGIN:VTIMEZONE
TZID:Europe/Rome
BEGIN:DAYLIGHT
TZOFFSETFROM:+0100
TZOFFSETTO:+0200
TZNAME:CEST
DTSTART:20230326T010000
END:DAYLIGHT
BEGIN:STANDARD
TZOFFSETFROM:+0200
TZOFFSETTO:+0100
TZNAME:CET
DTSTART:20231029T010000
END:STANDARD
END:VTIMEZONE
BEGIN:VEVENT
DTSTART;TZID=Europe/Rome:20231031T170000
DTEND;TZID=Europe/Rome:20231031T210000
DTSTAMP:20260421T103744
CREATED:20231024T074327Z
LAST-MODIFIED:20231024T074327Z
UID:1915-1698771600-1698786000@www.inbassaromagna.it
SUMMARY:La Notte delle Zucche a Lugo
DESCRIPTION:Martedì 31 ottobre dalle 17 il Comune di Lugo\, la Biblioteca Fabrizio Trisi\, il Museo Francesco Baracca\, il Consorzio In Bassa Romagna\, Lugo Eventi e la Pro Loco di Lugo propongono appuntamenti per tutti i gusti. Tra la Rocca e la Piazza tante zucche e fantasmi si aggireranno per divertire grandi e piccoli; torna Lughino Allouino con i laboratori per i bambini nella Rocca\, il rogo in Piazze e a seguire Nathalloween. \n\nIngresso libero.\n\n\nPer saperne di più
URL:https://www.inbassaromagna.it/event/la-notte-delle-zucche-a-lugo/
LOCATION:Lugo\, Lugo\, Italy
CATEGORIES:Feste
ATTACH;FMTTYPE=image/jpeg:https://www.inbassaromagna.it/wp-content/uploads/2023/10/392748163_712521220903647_7953431510056434242_n-1.jpg
GEO:44.420515650472;11.911011637422
END:VEVENT
END:VCALENDAR