BEGIN:VCALENDAR
VERSION:2.0
PRODID:-//IN BASSA ROMAGNA - ECPv5.8.2//NONSGML v1.0//EN
CALSCALE:GREGORIAN
METHOD:PUBLISH
X-WR-CALNAME:IN BASSA ROMAGNA
X-ORIGINAL-URL:https://www.inbassaromagna.it
X-WR-CALDESC:Eventi per IN BASSA ROMAGNA
BEGIN:VTIMEZONE
TZID:Europe/Rome
BEGIN:DAYLIGHT
TZOFFSETFROM:+0100
TZOFFSETTO:+0200
TZNAME:CEST
DTSTART:20220327T010000
END:DAYLIGHT
BEGIN:STANDARD
TZOFFSETFROM:+0200
TZOFFSETTO:+0100
TZNAME:CET
DTSTART:20221030T010000
END:STANDARD
BEGIN:DAYLIGHT
TZOFFSETFROM:+0100
TZOFFSETTO:+0200
TZNAME:CEST
DTSTART:20230326T010000
END:DAYLIGHT
BEGIN:STANDARD
TZOFFSETFROM:+0200
TZOFFSETTO:+0100
TZNAME:CET
DTSTART:20231029T010000
END:STANDARD
END:VTIMEZONE
BEGIN:VEVENT
DTSTART;TZID=Europe/Rome:20221222T000000
DTEND;TZID=Europe/Rome:20230107T233000
DTSTAMP:20260421T140652
CREATED:20221222T095421Z
LAST-MODIFIED:20221222T102104Z
UID:1071-1671667200-1673134200@www.inbassaromagna.it
SUMMARY:La lanterna delle meraviglie | Trebbo in Piazza
DESCRIPTION:Dal 22 dicembre al 7 gennaio la Piazza Vittorio Emanuele II ospita La lanterna delle meraviglie: una grande botte in resina colorata con fantasmi azzurri\, dedicata agli incontri e alle festività natalizie. \nIl 23 dicembre alle 18 avrà luogo l’inaugurazione con la proiezione di un video che racconta la storia della lanterna. \nDal 5 al 7 gennaio – alla luce della lanterna – si terrà il Trebbo in Piazza. \nA cura delle associazioni cittadine. \n  \nUlteriori informazioni \nper proporre un’idea da presentare dentro alla lanterna: info@primolacotignola.it | 366 37 34214 \nper conoscere tutti gli eventi di Cotignola: Bassa Romagna Mia
URL:https://www.inbassaromagna.it/event/la-lanterna-delle-meraviglie/
LOCATION:Cotignola\, Cotignola\, Italy
END:VEVENT
END:VCALENDAR