BEGIN:VCALENDAR
VERSION:2.0
PRODID:-//IN BASSA ROMAGNA - ECPv5.8.2//NONSGML v1.0//EN
CALSCALE:GREGORIAN
METHOD:PUBLISH
X-WR-CALNAME:IN BASSA ROMAGNA
X-ORIGINAL-URL:https://www.inbassaromagna.it
X-WR-CALDESC:Eventi per IN BASSA ROMAGNA
BEGIN:VTIMEZONE
TZID:Europe/Rome
BEGIN:DAYLIGHT
TZOFFSETFROM:+0100
TZOFFSETTO:+0200
TZNAME:CEST
DTSTART:20230326T010000
END:DAYLIGHT
BEGIN:STANDARD
TZOFFSETFROM:+0200
TZOFFSETTO:+0100
TZNAME:CET
DTSTART:20231029T010000
END:STANDARD
END:VTIMEZONE
BEGIN:VEVENT
DTSTART;TZID=Europe/Rome:20231105T120000
DTEND;TZID=Europe/Rome:20231105T140000
DTSTAMP:20260421T115859
CREATED:20231031T102135Z
LAST-MODIFIED:20231031T102135Z
UID:1931-1699185600-1699192800@www.inbassaromagna.it
SUMMARY:IlluminiAMO Conselice
DESCRIPTION:Il 5 novembre 2023 dalle ore 12 presso il ristorante Il Gabbiano\, si terrà il pranzo di autofinanziamento per l’acquisto di luci e addobbi natalizi IlluminiAMO Conselice\, organizzato dalla rete d’impresa Vivi Conselice. \nSono previsti un menù adulti e un menù bambini. \nIngresso con prenotazione obbligatoria al numero 3715730186 oppure nei negozi che espongono l’adesivo di Vivi Conselice.
URL:https://www.inbassaromagna.it/event/illuminiamo-conselice/
LOCATION:Conselice\, Conselice\, Italy
ATTACH;FMTTYPE=image/jpeg:https://www.inbassaromagna.it/wp-content/uploads/2023/10/393352234_654684816801765_264322752997252980_n.jpg
END:VEVENT
END:VCALENDAR