BEGIN:VCALENDAR
VERSION:2.0
PRODID:-//IN BASSA ROMAGNA - ECPv5.8.2//NONSGML v1.0//EN
CALSCALE:GREGORIAN
METHOD:PUBLISH
X-WR-CALNAME:IN BASSA ROMAGNA
X-ORIGINAL-URL:https://www.inbassaromagna.it
X-WR-CALDESC:Eventi per IN BASSA ROMAGNA
BEGIN:VTIMEZONE
TZID:Europe/Rome
BEGIN:DAYLIGHT
TZOFFSETFROM:+0100
TZOFFSETTO:+0200
TZNAME:CEST
DTSTART:20230326T010000
END:DAYLIGHT
BEGIN:STANDARD
TZOFFSETFROM:+0200
TZOFFSETTO:+0100
TZNAME:CET
DTSTART:20231029T010000
END:STANDARD
END:VTIMEZONE
BEGIN:VEVENT
DTSTART;TZID=Europe/Rome:20231217T143000
DTEND;TZID=Europe/Rome:20231217T173000
DTSTAMP:20260421T133244
CREATED:20231213T083418Z
LAST-MODIFIED:20231213T083418Z
UID:2036-1702823400-1702834200@www.inbassaromagna.it
SUMMARY:Il Natale dei bambini - Alfonsinè
DESCRIPTION:Domenica 17 dicembre dalle ore 14.30 in Piazza Gramsci attività per famiglie con Il Natale dei bambini\, un pomeriggio di laboratori creativi e animazione a cura di Alfonsinè Rete Imprese e Casa Monti. \nIngresso gratuito. \nPer informazioni: 0544 866667 – infocultura@comune.alfosine.ra.it \nScopri il programma
URL:https://www.inbassaromagna.it/event/il-natale-dei-bambini-alfonsine/
LOCATION:Alfonsine\, Alfonsine\, Italy
END:VEVENT
END:VCALENDAR