BEGIN:VCALENDAR
VERSION:2.0
PRODID:-//IN BASSA ROMAGNA - ECPv5.8.2//NONSGML v1.0//EN
CALSCALE:GREGORIAN
METHOD:PUBLISH
X-WR-CALNAME:IN BASSA ROMAGNA
X-ORIGINAL-URL:https://www.inbassaromagna.it
X-WR-CALDESC:Eventi per IN BASSA ROMAGNA
BEGIN:VTIMEZONE
TZID:Europe/Rome
BEGIN:DAYLIGHT
TZOFFSETFROM:+0100
TZOFFSETTO:+0200
TZNAME:CEST
DTSTART:20240331T010000
END:DAYLIGHT
BEGIN:STANDARD
TZOFFSETFROM:+0200
TZOFFSETTO:+0100
TZNAME:CET
DTSTART:20241027T010000
END:STANDARD
END:VTIMEZONE
BEGIN:VEVENT
DTSTART;TZID=Europe/Rome:20241031T183000
DTEND;TZID=Europe/Rome:20241031T233000
DTSTAMP:20260421T115730
CREATED:20241015T093939Z
LAST-MODIFIED:20241015T093939Z
UID:2228-1730399400-1730417400@www.inbassaromagna.it
SUMMARY:Horror Party
DESCRIPTION:Giovedì 31 ottobre al centro civico G. Pellegrini di Conselice Horror Party\, una festa con stand gastronomico\, musica e dolcetti per tutti i bambini con un allestimento a tema e animazione. Ingresso libero. \nL’evento è organizzato da Il Bianconiglio e VIVI Conselice.
URL:https://www.inbassaromagna.it/event/horror-party/
LOCATION:Conselice\, Conselice\, Italy
CATEGORIES:Feste
ATTACH;FMTTYPE=image/jpeg:https://www.inbassaromagna.it/wp-content/uploads/2024/10/463135695_915903753793907_2062400716411910068_n.jpg
END:VEVENT
END:VCALENDAR