BEGIN:VCALENDAR
VERSION:2.0
PRODID:-//IN BASSA ROMAGNA - ECPv5.8.2//NONSGML v1.0//EN
CALSCALE:GREGORIAN
METHOD:PUBLISH
X-WR-CALNAME:IN BASSA ROMAGNA
X-ORIGINAL-URL:https://www.inbassaromagna.it
X-WR-CALDESC:Eventi per IN BASSA ROMAGNA
BEGIN:VTIMEZONE
TZID:Europe/Rome
BEGIN:DAYLIGHT
TZOFFSETFROM:+0100
TZOFFSETTO:+0200
TZNAME:CEST
DTSTART:20210328T010000
END:DAYLIGHT
BEGIN:STANDARD
TZOFFSETFROM:+0200
TZOFFSETTO:+0100
TZNAME:CET
DTSTART:20211031T010000
END:STANDARD
END:VTIMEZONE
BEGIN:VEVENT
DTSTART;TZID=Europe/Rome:20211031T140000
DTEND;TZID=Europe/Rome:20211031T230000
DTSTAMP:20260421T172904
CREATED:20211102T090044Z
LAST-MODIFIED:20211102T090044Z
UID:646-1635688800-1635721200@www.inbassaromagna.it
SUMMARY:HALLOWEEN ALFONSINE
DESCRIPTION:In occasione del ricco programma di Halloween organizzato dal Comune di Alfonsine\, la rete d’impresa Alfonsine ha organizzato un laboratorio rivolto ai più piccoli in collaborazione con Casa Monti che si svolgerà presso Piazza Monti. Durante il laboratorio i bambini apprenderanno come realizzare delle “decorazione spavantose” utilizzando materiali di recupero\, qualche accessorio\, colori e fantasia. Casa Monti è la casa museo del poeta alfonsinese Vincenzo Monti.
URL:https://www.inbassaromagna.it/event/halloween-alfonsine/
LOCATION:Alfonsine\, Alfonsine\, Italy
CATEGORIES:Feste
ATTACH;FMTTYPE=image/jpeg:https://www.inbassaromagna.it/wp-content/uploads/2021/11/WhatsApp-Image-2021-11-02-at-09.57.54.jpeg
END:VEVENT
END:VCALENDAR