BEGIN:VCALENDAR
VERSION:2.0
PRODID:-//IN BASSA ROMAGNA - ECPv5.8.2//NONSGML v1.0//EN
CALSCALE:GREGORIAN
METHOD:PUBLISH
X-WR-CALNAME:IN BASSA ROMAGNA
X-ORIGINAL-URL:https://www.inbassaromagna.it
X-WR-CALDESC:Eventi per IN BASSA ROMAGNA
BEGIN:VTIMEZONE
TZID:Europe/Rome
BEGIN:DAYLIGHT
TZOFFSETFROM:+0100
TZOFFSETTO:+0200
TZNAME:CEST
DTSTART:20220327T010000
END:DAYLIGHT
BEGIN:STANDARD
TZOFFSETFROM:+0200
TZOFFSETTO:+0100
TZNAME:CET
DTSTART:20221030T010000
END:STANDARD
END:VTIMEZONE
BEGIN:VEVENT
DTSTART;TZID=Europe/Rome:20220410T080000
DTEND;TZID=Europe/Rome:20220410T130000
DTSTAMP:20260421T133714
CREATED:20220405T065555Z
LAST-MODIFIED:20220405T065625Z
UID:877-1649577600-1649595600@www.inbassaromagna.it
SUMMARY:Fiera di Pasqua
DESCRIPTION:Come ogni anno\, domenica 10 Aprile a Lugo ci sarà la “Fiera di Pasqua”\,  il mercato straordinario della domenica prima di Pasqua che coinvolge strade e piazze del centro per tutta la giornata. Il mercato si estende infatti in tutto il centro storico \, occupando con i suoi circa 100 commercianti le piazze vicine ai due monumenti cittadini\, la Rocca estense e il Pavaglione\, con tutto il quadriportico riservato alle bancarelle. In vendita prodotti di ogni tipo\, compresi i prodotti dell’artigianato locale.
URL:https://www.inbassaromagna.it/event/fiera-di-pasqua/
LOCATION:Centro storico di Lugo\, Italy
CATEGORIES:Mercatini
ATTACH;FMTTYPE=image/jpeg:https://www.inbassaromagna.it/wp-content/uploads/2022/04/fiera-di-Pasqua_medium.jpg
END:VEVENT
END:VCALENDAR