BEGIN:VCALENDAR
VERSION:2.0
PRODID:-//IN BASSA ROMAGNA - ECPv5.8.2//NONSGML v1.0//EN
CALSCALE:GREGORIAN
METHOD:PUBLISH
X-WR-CALNAME:IN BASSA ROMAGNA
X-ORIGINAL-URL:https://www.inbassaromagna.it
X-WR-CALDESC:Eventi per IN BASSA ROMAGNA
BEGIN:VTIMEZONE
TZID:Europe/Rome
BEGIN:DAYLIGHT
TZOFFSETFROM:+0100
TZOFFSETTO:+0200
TZNAME:CEST
DTSTART:20220327T010000
END:DAYLIGHT
BEGIN:STANDARD
TZOFFSETFROM:+0200
TZOFFSETTO:+0100
TZNAME:CET
DTSTART:20221030T010000
END:STANDARD
END:VTIMEZONE
BEGIN:VEVENT
DTSTART;VALUE=DATE:20220201
DTEND;VALUE=DATE:20220207
DTSTAMP:20260421T175237
CREATED:20220201T145232Z
LAST-MODIFIED:20220201T145247Z
UID:814-1643673600-1644191999@www.inbassaromagna.it
SUMMARY:FESTA DELLA PATRONA S. AGATA
DESCRIPTION:Dall’1 al 6 febbraio 2022 Sant’Agata sul Santerno festeggia la patrona S. Agata con mostre\, incontri e spettacoli. \nPROGRAMMA \n1 febbraio\nore 20.30\, sala polivalente Ca’ di Cuntadèn\nInaugurazione dell’esposizione dei quadri del pittore\, poeta e scrittore Leopoldo Merendi.\nLa mostra sarà visitabile dal 2 al 6 febbraio dalle 15.30 alle 17 \nore 20.45\, sala polivalente Ca’ di Cuntadèn\nSerata culturale “Sant’Agata alla ricerca del suo passato”\, XXI edizione\nRelatori: Patrizia Parrucci e Giancarlo Ronchi\, Sant’Agata nella Legazione Pontificia (1750) – documenti recuperati nell’Archivio Apostolico Vaticano; Armanda Capucci\, “Un santagatese geniale: Leopoldo Merendi (1911-1986)\nPrenotazioni: 3332402996 – biblioteca@comune.santagatasulsanterno.ra.it \n4 febbraio ore 20.45\, sala della comunità “Sacra famiglia di Nazareth”\nSerata musicale con Miranda e Silvio\, canzoni di ieri e di oggi. Intermezzi umoristici con le barzellette di Tiziano Gatta.\nPrenotazioni: 3393039175 – 3488548501 \n5 febbraio\nore 11\, Grande Parco Vatrenus\nBenvenuti a Sant’Agata\, cerimonia di intitolazione dell’albero dedicato ai bambini nati nel 2021.\na seguire\nGalà dello sport\, dell’associazionismo e del volontariato santagatese\, consegna attestati di merito e gratitudine \nore 18\, Chiesa parrocchiale\nSanta messa della Patrona\, vergine e martire\, presieduta dal vescovo Mons. Mario Toso \n6 febbraio\ndalle 12 alle 12.30\, Ca’ di Cuntadèn\nPranzo da asporto (cappelletti\, tris di dolci)\, sabadoni e mistuchine in vendita (anche il sabato negli stessi orari.\nInfo e prenotazioni: 3394155591 – 3316203386 \nore 21\, Chiesa parrocchiale\nUna sera all’opera\, omaggio a Maria Callas: Concerto con musiche di Verdi\, Puccini\, Donizetti\, Bellini\nPrenotazioni: 3891954270 – ensemblemariani@gmail.com \nUlteriori informazioni\nURP Piazza Garibaldi 5 – 48010 S. Agata sul Santerno\nTelefono: 0545 919907\ne-mail: urp@comune.santagatasulsanterno.ra.it\nWeb: http://www.comune.santagatasulsanterno.ra.it/Citta-e-territorio/Eventi-e-Manifestazioni/Calendario-Eventi/Festa-della-Patrona-2022 
URL:https://www.inbassaromagna.it/event/festa-della-patrona-s-agata/
LOCATION:Centro storico di Sant’Agata sul Santerno\, Italy
ATTACH;FMTTYPE=image/jpeg:https://www.inbassaromagna.it/wp-content/uploads/2022/02/santagata-patrona-300x264-1.jpg
END:VEVENT
END:VCALENDAR