BEGIN:VCALENDAR
VERSION:2.0
PRODID:-//IN BASSA ROMAGNA - ECPv5.8.2//NONSGML v1.0//EN
CALSCALE:GREGORIAN
METHOD:PUBLISH
X-WR-CALNAME:IN BASSA ROMAGNA
X-ORIGINAL-URL:https://www.inbassaromagna.it
X-WR-CALDESC:Eventi per IN BASSA ROMAGNA
BEGIN:VTIMEZONE
TZID:Europe/Rome
BEGIN:DAYLIGHT
TZOFFSETFROM:+0100
TZOFFSETTO:+0200
TZNAME:CEST
DTSTART:20220327T010000
END:DAYLIGHT
BEGIN:STANDARD
TZOFFSETFROM:+0200
TZOFFSETTO:+0100
TZNAME:CET
DTSTART:20221030T010000
END:STANDARD
END:VTIMEZONE
BEGIN:VEVENT
DTSTART;VALUE=DATE:20220903
DTEND;VALUE=DATE:20220912
DTSTAMP:20260423T125957
CREATED:20220912T095408Z
LAST-MODIFIED:20220912T095408Z
UID:985-1662163200-1662940799@www.inbassaromagna.it
SUMMARY:FESTA DELL'8 SETTEMBRE
DESCRIPTION:La tradizionale festa religiosa dedicata alla Beata Vergine Maria\, patrona della città di Fusignano\, si svolge dal 3 all’11 settembre 2022. In occasione della festa\, il centro cittadino è animato da cerimonie  religiose\, spettacoli\, manifestazioni artistiche e stand gastronomici. \nEvento più atteso è l’antica processione religiosa nella serata dell’8 settembre\, giorno di Festa in onore della Patrona.\nL’ immagine della “Patrona Fusiniani”\, dipinta dal frate cappuccino Acquaviva nel 1570 e portata a spalla dai fedeli per le vie del paese fin dal lontano 1627\, è accompagnata dalla suggestione dei canti religiosi e dalle tante candele che illuminano la notte. \nEVENTO CONCLUSO\, SCOPRI GLI ALTRI EVENTI O  ISCRIVITI ALLA NEWSLETTER\n\nUlteriori informazioni\nCentro cittadino\nFusignano – 48034 (RA)\nTel: 0545 955653 – 0545 955668\nE-mail: urp@comune.fusignano.ra.it\nURL: https://www.comune.fusignano.ra.it/Citta-e-territorio/Eventi-e-Manifestazioni/Calendario-Eventi/Festa-dell-8-settembre \n(Aggiornato al 12/09/2022)
URL:https://www.inbassaromagna.it/event/festa-dell8-settembre-2/
LOCATION:Fusignano\, Fusignano\, Italy
CATEGORIES:Feste
GEO:44.468347803914;11.958717085951
END:VEVENT
END:VCALENDAR