BEGIN:VCALENDAR
VERSION:2.0
PRODID:-//IN BASSA ROMAGNA - ECPv5.8.2//NONSGML v1.0//EN
CALSCALE:GREGORIAN
METHOD:PUBLISH
X-WR-CALNAME:IN BASSA ROMAGNA
X-ORIGINAL-URL:https://www.inbassaromagna.it
X-WR-CALDESC:Eventi per IN BASSA ROMAGNA
BEGIN:VTIMEZONE
TZID:Europe/Rome
BEGIN:DAYLIGHT
TZOFFSETFROM:+0100
TZOFFSETTO:+0200
TZNAME:CEST
DTSTART:20210328T010000
END:DAYLIGHT
BEGIN:STANDARD
TZOFFSETFROM:+0200
TZOFFSETTO:+0100
TZNAME:CET
DTSTART:20211031T010000
END:STANDARD
END:VTIMEZONE
BEGIN:VEVENT
DTSTART;VALUE=DATE:20211009
DTEND;VALUE=DATE:20211011
DTSTAMP:20260421T152011
CREATED:20211001T095031Z
LAST-MODIFIED:20211001T095125Z
UID:603-1633737600-1633910399@www.inbassaromagna.it
SUMMARY:Festa del Castello
DESCRIPTION:Il 9 e 10 ottobre 2021 bel borgo medievale della Rocca Sforzesca Bagnara di Romagna s’immergerà nel passato celebrando Dante Alighieri nel 700° anniversario dalla sua morte. \nPROGRAMMA in definizione \nDal 2009\, anno in cui ricorrevano i cinquecento anni dalla morte di Caterina Sforza\, figura storica fondamentale nella storia di Bagnara di Romagna\, celebrati con due giornate dense di appuntamenti\, annualmente ad inizio ottobre si svolge la Festa del Castello\, un evento che unisce cultura\, storia e spettacolo per la valorizzazione del territorio.\nOgni anno il programma e la tematica della festa varia\, ma il fulcro ruota sempre attorno al Castello e alla sua lunga storia. \nUlteriori informazioni\nRocca Sforzesca\nIndirizzo: Piazza IV Novembre\, 3 – Bagnara di Romagna – 48031 (RA)\nTel: 0545 905505 \nCome arrivare\nLa festa si svolge all’interno e attorno alla Rocca Sforzesca\, nel centro storico di Bagnara. Parcheggi nelle immediate vicinanze. Accessibile ai diversamente abili. \nIngresso gratuito
URL:https://www.inbassaromagna.it/event/festa-del-castello/
LOCATION:Bagnara di Romagna\, Italy
CATEGORIES:Feste
ATTACH;FMTTYPE=image/jpeg:https://www.inbassaromagna.it/wp-content/uploads/2021/10/mod-Bagnara-di-Romagna_Rocca_29-300x200-1.jpg
END:VEVENT
END:VCALENDAR