BEGIN:VCALENDAR
VERSION:2.0
PRODID:-//IN BASSA ROMAGNA - ECPv5.8.2//NONSGML v1.0//EN
CALSCALE:GREGORIAN
METHOD:PUBLISH
X-WR-CALNAME:IN BASSA ROMAGNA
X-ORIGINAL-URL:https://www.inbassaromagna.it
X-WR-CALDESC:Eventi per IN BASSA ROMAGNA
BEGIN:VTIMEZONE
TZID:Europe/Rome
BEGIN:DAYLIGHT
TZOFFSETFROM:+0100
TZOFFSETTO:+0200
TZNAME:CEST
DTSTART:20210328T010000
END:DAYLIGHT
BEGIN:STANDARD
TZOFFSETFROM:+0200
TZOFFSETTO:+0100
TZNAME:CET
DTSTART:20211031T010000
END:STANDARD
END:VTIMEZONE
BEGIN:VEVENT
DTSTART;TZID=Europe/Rome:20211031T183000
DTEND;TZID=Europe/Rome:20211031T233000
DTSTAMP:20260421T140243
CREATED:20211102T084602Z
LAST-MODIFIED:20211102T090258Z
UID:640-1635705000-1635723000@www.inbassaromagna.it
SUMMARY:COTIGNYORK 2077
DESCRIPTION:Cotignyork 2077 – La festa di Halloween organizzata dalla rete Cotignola Invita avrà come tema il “Cyber Punk”\, di seguito il programma completo:\nore 18:00 – davanti alla Scuola Arti e Mestieri in via Cairoli 6 – Parco bacchettoni – parata per le vie del centro delle sentinelle girandonole\, maschere in ceramica realizzate dai bambini presso la Scuola Arte e Mestieri in occasione della Sega Vecchia 2020. La parata terminerà nei pressi della Chiesa del Suffragio\nore 18:30 – Chiesa Del Suffragio – spettacolo di fuoco dei “Games With Flames” (Mutoidi)\nore 19:00/24:00 – Cortile di Casa Varoli – djset a cura di Jerry&Matix e Micio\, servizio bar a cura di Cotignola Invita\, servizio di ristorazione offerto dall’Agriturismo Viaggiante
URL:https://www.inbassaromagna.it/event/cotignyork-2077/
LOCATION:Cotignola\, Cotignola\, Italy
CATEGORIES:Feste
ATTACH;FMTTYPE=image/jpeg:https://www.inbassaromagna.it/wp-content/uploads/2021/11/WhatsApp-Image-2021-10-18-at-11.05.23.jpeg
END:VEVENT
END:VCALENDAR