BEGIN:VCALENDAR
VERSION:2.0
PRODID:-//IN BASSA ROMAGNA - ECPv5.8.2//NONSGML v1.0//EN
CALSCALE:GREGORIAN
METHOD:PUBLISH
X-WR-CALNAME:IN BASSA ROMAGNA
X-ORIGINAL-URL:https://www.inbassaromagna.it
X-WR-CALDESC:Eventi per IN BASSA ROMAGNA
BEGIN:VTIMEZONE
TZID:Europe/Rome
BEGIN:DAYLIGHT
TZOFFSETFROM:+0100
TZOFFSETTO:+0200
TZNAME:CEST
DTSTART:20220327T010000
END:DAYLIGHT
BEGIN:STANDARD
TZOFFSETFROM:+0200
TZOFFSETTO:+0100
TZNAME:CET
DTSTART:20221030T010000
END:STANDARD
END:VTIMEZONE
BEGIN:VEVENT
DTSTART;TZID=Europe/Rome:20221229T210000
DTEND;TZID=Europe/Rome:20221229T233000
DTSTAMP:20260421T183610
CREATED:20221221T105116Z
LAST-MODIFIED:20221221T105116Z
UID:1040-1672347600-1672356600@www.inbassaromagna.it
SUMMARY:Concerto di Natale
DESCRIPTION:Il 29 dicembre alle ore 21 si svolgerà – nella cornice della Chiesa del Sacro Cuore – il Concerto di Natale. \nper conoscere gli altri eventi di Alfonsine: Bassa Romagna Mia
URL:https://www.inbassaromagna.it/event/concerto-di-natale/
LOCATION:Alfonsine\, Alfonsine\, Italy
END:VEVENT
END:VCALENDAR