BEGIN:VCALENDAR
VERSION:2.0
PRODID:-//IN BASSA ROMAGNA - ECPv5.8.2//NONSGML v1.0//EN
CALSCALE:GREGORIAN
METHOD:PUBLISH
X-WR-CALNAME:IN BASSA ROMAGNA
X-ORIGINAL-URL:https://www.inbassaromagna.it
X-WR-CALDESC:Eventi per IN BASSA ROMAGNA
BEGIN:VTIMEZONE
TZID:Europe/Rome
BEGIN:DAYLIGHT
TZOFFSETFROM:+0100
TZOFFSETTO:+0200
TZNAME:CEST
DTSTART:20220327T010000
END:DAYLIGHT
BEGIN:STANDARD
TZOFFSETFROM:+0200
TZOFFSETTO:+0100
TZNAME:CET
DTSTART:20221030T010000
END:STANDARD
END:VTIMEZONE
BEGIN:VEVENT
DTSTART;TZID=Europe/Rome:20221221T203000
DTEND;TZID=Europe/Rome:20221221T233000
DTSTAMP:20260421T170953
CREATED:20221221T125716Z
LAST-MODIFIED:20221221T125716Z
UID:1067-1671654600-1671665400@www.inbassaromagna.it
SUMMARY:Concerto di Natale
DESCRIPTION:Il 21 dicembre alle 20.30 nella cornice della chiesa di San Francesco di Paola si terrà il Concerto di Natale. \nper conoscere gli altri eventi di Lugo: Bassa Romagna Mia
URL:https://www.inbassaromagna.it/event/concerto-di-natale-3/
LOCATION:Lugo\, Lugo\, Italy
GEO:44.420515650472;11.911011637422
END:VEVENT
END:VCALENDAR