BEGIN:VCALENDAR
VERSION:2.0
PRODID:-//IN BASSA ROMAGNA - ECPv5.8.2//NONSGML v1.0//EN
CALSCALE:GREGORIAN
METHOD:PUBLISH
X-WR-CALNAME:IN BASSA ROMAGNA
X-ORIGINAL-URL:https://www.inbassaromagna.it
X-WR-CALDESC:Eventi per IN BASSA ROMAGNA
BEGIN:VTIMEZONE
TZID:Europe/Rome
BEGIN:DAYLIGHT
TZOFFSETFROM:+0100
TZOFFSETTO:+0200
TZNAME:CEST
DTSTART:20220327T010000
END:DAYLIGHT
BEGIN:STANDARD
TZOFFSETFROM:+0200
TZOFFSETTO:+0100
TZNAME:CET
DTSTART:20221030T010000
END:STANDARD
BEGIN:DAYLIGHT
TZOFFSETFROM:+0100
TZOFFSETTO:+0200
TZNAME:CEST
DTSTART:20230326T010000
END:DAYLIGHT
BEGIN:STANDARD
TZOFFSETFROM:+0200
TZOFFSETTO:+0100
TZNAME:CET
DTSTART:20231029T010000
END:STANDARD
END:VTIMEZONE
BEGIN:VEVENT
DTSTART;TZID=Europe/Rome:20221231T210000
DTEND;TZID=Europe/Rome:20230101T000000
DTSTAMP:20260421T215538
CREATED:20221222T120356Z
LAST-MODIFIED:20221222T120356Z
UID:1095-1672520400-1672531200@www.inbassaromagna.it
SUMMARY:Concerto di Capodanno
DESCRIPTION:Dopo due anni di assenza torna la storica serata di San Silvestro\,  con il Concerto di Capodanno a partire dalle ore 21. A esibirsi in apertura sul palco montato davanti al Monumento a Francesco Baracca il rapper Moder\, a seguire alle 22 la cantante Nada. \nUlteriori informazioni \nModer – alias Lanfranco Vicari – nasce a Ravenna nel 1983. Segue il rap italiano dai primi anni Novanta e dieci anni dopo fonda il gruppo Il Lato Oscuro della Costa\, che oggi gestisce anche il CISIM – Centro Internazionale Studi e Insegnamenti Mosaico. \nNada\, celebre artista\, è impegnata in questi mesi con la sua band nel tour dopo l’uscita dell’ultimo album La paura va via da sé se i pensieri brillano.
URL:https://www.inbassaromagna.it/event/concerto-di-capodanno/
LOCATION:Lugo\, Lugo\, Italy
GEO:44.420515650472;11.911011637422
END:VEVENT
END:VCALENDAR