BEGIN:VCALENDAR
VERSION:2.0
PRODID:-//IN BASSA ROMAGNA - ECPv5.8.2//NONSGML v1.0//EN
CALSCALE:GREGORIAN
METHOD:PUBLISH
X-WR-CALNAME:IN BASSA ROMAGNA
X-ORIGINAL-URL:https://www.inbassaromagna.it
X-WR-CALDESC:Eventi per IN BASSA ROMAGNA
BEGIN:VTIMEZONE
TZID:Europe/Rome
BEGIN:DAYLIGHT
TZOFFSETFROM:+0100
TZOFFSETTO:+0200
TZNAME:CEST
DTSTART:20230326T010000
END:DAYLIGHT
BEGIN:STANDARD
TZOFFSETFROM:+0200
TZOFFSETTO:+0100
TZNAME:CET
DTSTART:20231029T010000
END:STANDARD
END:VTIMEZONE
BEGIN:VEVENT
DTSTART;VALUE=DATE:20231207
DTEND;VALUE=DATE:20231208
DTSTAMP:20260421T120758
CREATED:20231128T110530Z
LAST-MODIFIED:20231129T084029Z
UID:1979-1701907200-1701993599@www.inbassaromagna.it
SUMMARY:Accendiamo il Natale - Fusignano è Più
DESCRIPTION:Giovedì 7 dicembre  \naccensione dell’albero di Natale \n  \nPer saperne di più
URL:https://www.inbassaromagna.it/event/camminata-e-christmas-choir-fusignano-e-piu/
LOCATION:Fusignano\, Fusignano\, Italy
CATEGORIES:Feste,Spettacoli
ATTACH;FMTTYPE=image/jpeg:https://www.inbassaromagna.it/wp-content/uploads/2023/11/400705725_6516969075882_5965092335343094622_n.jpg
GEO:44.468347803914;11.958717085951
END:VEVENT
END:VCALENDAR