BEGIN:VCALENDAR
VERSION:2.0
PRODID:-//IN BASSA ROMAGNA - ECPv5.8.2//NONSGML v1.0//EN
CALSCALE:GREGORIAN
METHOD:PUBLISH
X-WR-CALNAME:IN BASSA ROMAGNA
X-ORIGINAL-URL:https://www.inbassaromagna.it
X-WR-CALDESC:Eventi per IN BASSA ROMAGNA
BEGIN:VTIMEZONE
TZID:Europe/Rome
BEGIN:DAYLIGHT
TZOFFSETFROM:+0100
TZOFFSETTO:+0200
TZNAME:CEST
DTSTART:20210328T010000
END:DAYLIGHT
BEGIN:STANDARD
TZOFFSETFROM:+0200
TZOFFSETTO:+0100
TZNAME:CET
DTSTART:20211031T010000
END:STANDARD
END:VTIMEZONE
BEGIN:VEVENT
DTSTART;TZID=Europe/Rome:20211031T153000
DTEND;TZID=Europe/Rome:20211031T220000
DTSTAMP:20260421T154814
CREATED:20211102T085559Z
LAST-MODIFIED:20211102T090337Z
UID:643-1635694200-1635717600@www.inbassaromagna.it
SUMMARY:CACCIA AL TESORO - HALLOWEEN 2021
DESCRIPTION:Domenica 31 Ottobre\, in occasione dell’ “Halloween Massese” la rete d’impresa In Massa organizza la prima edizione della caccia al tesoro diffusa nel centro città\, (i bambini potranno partecipare in gruppi da 7 fino ad un massimo di 10 gruppi\, la caccia al tesoro è già sold out). Al termine della caccia al tesoro\, la rete offrirà ai bambini una merenda mentre per gli adulti l’avis offrirà il servizio di caldarroste e vin brulè ed infine i commercianti\, aderenti alla rete\, rimaranno aperti per l’occasione animando il centro città.
URL:https://www.inbassaromagna.it/event/caccia-al-tesoro-halloween-2021/
LOCATION:Massa Lombarda\, Massa Lombarda\, Italy
CATEGORIES:Feste
ATTACH;FMTTYPE=image/jpeg:https://www.inbassaromagna.it/wp-content/uploads/2021/11/WhatsApp-Image-2021-10-29-at-19.16.17.jpeg
END:VEVENT
END:VCALENDAR