BEGIN:VCALENDAR
VERSION:2.0
PRODID:-//IN BASSA ROMAGNA - ECPv5.8.2//NONSGML v1.0//EN
CALSCALE:GREGORIAN
METHOD:PUBLISH
X-WR-CALNAME:IN BASSA ROMAGNA
X-ORIGINAL-URL:https://www.inbassaromagna.it
X-WR-CALDESC:Eventi per IN BASSA ROMAGNA
BEGIN:VTIMEZONE
TZID:Europe/Rome
BEGIN:DAYLIGHT
TZOFFSETFROM:+0100
TZOFFSETTO:+0200
TZNAME:CEST
DTSTART:20220327T010000
END:DAYLIGHT
BEGIN:STANDARD
TZOFFSETFROM:+0200
TZOFFSETTO:+0100
TZNAME:CET
DTSTART:20221030T010000
END:STANDARD
END:VTIMEZONE
BEGIN:VEVENT
DTSTART;TZID=Europe/Rome:20221224T153000
DTEND;TZID=Europe/Rome:20221224T233000
DTSTAMP:20260421T191553
CREATED:20221222T112621Z
LAST-MODIFIED:20221222T112621Z
UID:1091-1671895800-1671924600@www.inbassaromagna.it
SUMMARY:Bianche Presenze | Fire Show
DESCRIPTION:Per la vigilia di Natale\, sabato 24 dicembre \, al Pavaglione l’Accademia Creativa presenta lo spettacolo itinerante con trampoli Bianche Presenze. Dalle ore 15.30 due danzatrici vestite da bianche farfalle\, eteree ed eleganti\, allieteranno il pubblico con costumi luminosi unici in Italia\, grazie all’utilizzo di ricercata tecnologia LED a luce calda. Le protagoniste sono accompagnate da un carro luminoso che diffonde leggere musiche nell’aria. A seguire Fire Show\, uno spettacolo di fuoco e luce di forte impatto visivo grazie all’uso di pirotecnica teatrale e costumi luminosi. \n  \nper conoscere tutti gli eventi a Lugo
URL:https://www.inbassaromagna.it/event/bianche-presenze-fire-show/
LOCATION:Lugo\, Lugo\, Italy
GEO:44.420515650472;11.911011637422
END:VEVENT
END:VCALENDAR