BEGIN:VCALENDAR
VERSION:2.0
PRODID:-//IN BASSA ROMAGNA - ECPv5.8.2//NONSGML v1.0//EN
CALSCALE:GREGORIAN
METHOD:PUBLISH
X-WR-CALNAME:IN BASSA ROMAGNA
X-ORIGINAL-URL:https://www.inbassaromagna.it
X-WR-CALDESC:Eventi per IN BASSA ROMAGNA
BEGIN:VTIMEZONE
TZID:Europe/Rome
BEGIN:DAYLIGHT
TZOFFSETFROM:+0100
TZOFFSETTO:+0200
TZNAME:CEST
DTSTART:20230326T010000
END:DAYLIGHT
BEGIN:STANDARD
TZOFFSETFROM:+0200
TZOFFSETTO:+0100
TZNAME:CET
DTSTART:20231029T010000
END:STANDARD
END:VTIMEZONE
BEGIN:VEVENT
DTSTART;TZID=Europe/Rome:20231217T153000
DTEND;TZID=Europe/Rome:20231217T190000
DTSTAMP:20260421T132857
CREATED:20231213T091955Z
LAST-MODIFIED:20231213T092449Z
UID:2042-1702827000-1702839600@www.inbassaromagna.it
SUMMARY:Bagnacavallo d'Inverno
DESCRIPTION:Bagnacavallo d’inverno proporrà fino a gennaio 2024 cinquanta eventi\, spettacoli\, laboratori\, incontri e concerti che affiancheranno mostre d’arte\, presepi e proiezioni cinematografiche in un susseguirsi di appuntamenti per tutte le età. Il programma per le festività natalizie è coordinato dall’Ufficio Cultura del Comune e realizzato con la collaborazione delle associazioni e degli operatori culturali del territorio\, dei Consigli di zona e della rete di imprese “Bagnacavallo fa Centro”. \nDomenica 17 dicembre dalle 9 alle 16 in Piazza Tre Martiri a Villanova Piccola fiera di Natale: mercatino della solidarietà e della creatività locale\, giochi e laboratori per bambini\, musica e tradizione con i “Musicanti improvvisi”. Evento a cura dell’associazione Civiltà delle Erbe Palustri con il Consiglio di Zona e le associazioni locali. \nNell’ambito del progetto “Benvenuti a Bagnacavallo” visita guidata nell’antica costruzione fortificata del “Castellaccio” (via Baracca 24) e ai suoi splendidi interni arredati e decorati. Visite a gruppi con partenza agni ora dalle 15 alle 18. Per informazioni\, costi e prenotazioni 346 6136123 – ilcastellacciodibagnacavallo.it \nAlle 15.30 in Piazza della Libertà Note di Natale: concerto gospel con The Colours of Freedom. \n  \nScopri il programma
URL:https://www.inbassaromagna.it/event/bagnacavallo-dinverno/
LOCATION:Bagnacavallo\, Bagnacavallo\, Italy
CATEGORIES:Mercatini
END:VEVENT
END:VCALENDAR