BEGIN:VCALENDAR
VERSION:2.0
PRODID:-//IN BASSA ROMAGNA - ECPv5.8.2//NONSGML v1.0//EN
CALSCALE:GREGORIAN
METHOD:PUBLISH
X-WR-CALNAME:IN BASSA ROMAGNA
X-ORIGINAL-URL:https://www.inbassaromagna.it
X-WR-CALDESC:Eventi per IN BASSA ROMAGNA
BEGIN:VTIMEZONE
TZID:Europe/Rome
BEGIN:DAYLIGHT
TZOFFSETFROM:+0100
TZOFFSETTO:+0200
TZNAME:CEST
DTSTART:20230326T010000
END:DAYLIGHT
BEGIN:STANDARD
TZOFFSETFROM:+0200
TZOFFSETTO:+0100
TZNAME:CET
DTSTART:20231029T010000
END:STANDARD
END:VTIMEZONE
BEGIN:VEVENT
DTSTART;TZID=Europe/Rome:20231222T180000
DTEND;TZID=Europe/Rome:20231222T210000
DTSTAMP:20260421T120110
CREATED:20231215T115320Z
LAST-MODIFIED:20231215T115320Z
UID:2051-1703268000-1703278800@www.inbassaromagna.it
SUMMARY:Bagnacavallo d'Inverno
DESCRIPTION:Bagnacavallo d’inverno proporrà fino a gennaio 2024 cinquanta eventi\, spettacoli\, laboratori\, incontri e concerti che affiancheranno mostre d’arte\, presepi e proiezioni cinematografiche in un susseguirsi di appuntamenti per tutte le età. Il programma per le festività natalizie è coordinato dall’Ufficio Cultura del Comune e realizzato con la collaborazione delle associazioni e degli operatori culturali del territorio\, dei Consigli di zona e della rete di imprese “Bagnacavallo fa Centro”. \nGiovedì 22 dicembre ore 18 Camminata dei presepi\, con partenza all’Ecomuseo delle Erbe Palustri e rientro per l’ora di cena. A cura del gruppo Villanordic. \nAlle ore 19.30 la Notte dei presepi\, una cena-concerto con menu delle feste\, canti natalizi e canzoni del cuore con il gruppo “A voj cantè neca me”. Apertura straordinaria della mostra La Capanna del Bambinello. \nScopri il programma
URL:https://www.inbassaromagna.it/event/bagnacavallo-dinverno-5/
LOCATION:Bagnacavallo\, Bagnacavallo\, Italy
END:VEVENT
END:VCALENDAR