BEGIN:VCALENDAR
VERSION:2.0
PRODID:-//IN BASSA ROMAGNA - ECPv5.8.2//NONSGML v1.0//EN
CALSCALE:GREGORIAN
METHOD:PUBLISH
X-WR-CALNAME:IN BASSA ROMAGNA
X-ORIGINAL-URL:https://www.inbassaromagna.it
X-WR-CALDESC:Eventi per IN BASSA ROMAGNA
BEGIN:VTIMEZONE
TZID:Europe/Rome
BEGIN:DAYLIGHT
TZOFFSETFROM:+0100
TZOFFSETTO:+0200
TZNAME:CEST
DTSTART:20230326T010000
END:DAYLIGHT
BEGIN:STANDARD
TZOFFSETFROM:+0200
TZOFFSETTO:+0100
TZNAME:CET
DTSTART:20231029T010000
END:STANDARD
END:VTIMEZONE
BEGIN:VEVENT
DTSTART;TZID=Europe/Rome:20231221T180000
DTEND;TZID=Europe/Rome:20231221T223000
DTSTAMP:20260421T120110
CREATED:20231215T113635Z
LAST-MODIFIED:20231215T113635Z
UID:2049-1703181600-1703197800@www.inbassaromagna.it
SUMMARY:Bagnacavallo d'Inverno
DESCRIPTION:Bagnacavallo d’inverno proporrà fino a gennaio 2024 cinquanta eventi\, spettacoli\, laboratori\, incontri e concerti che affiancheranno mostre d’arte\, presepi e proiezioni cinematografiche in un susseguirsi di appuntamenti per tutte le età. Il programma per le festività natalizie è coordinato dall’Ufficio Cultura del Comune e realizzato con la collaborazione delle associazioni e degli operatori culturali del territorio\, dei Consigli di zona e della rete di imprese “Bagnacavallo fa Centro”. \nMercoledì 21 dicembre ore 21 al Teatro Goldoni: Libertà – Freiheit – Libertè – Freedom\, un viaggio nella Liberazione attraverso vicende di giovani donne e uomini che vissero la storia sulla propria pelle\, prendendone parte attivamente attraverso le loro vicende e le loro parole. Reading musicale a cura di Matteo Corradini\, con la partecipazione di Elio Biffi e Simone Pagani\, tastierista e bassista dei Pinguini Tattici Nucleari\, e l’autrice Claudia Perossini. Alle 18\, incontro con gli artisti. \nScopri il programma
URL:https://www.inbassaromagna.it/event/bagnacavallo-dinverno-4/
LOCATION:Bagnacavallo\, Bagnacavallo\, Italy
CATEGORIES:Cultura
END:VEVENT
END:VCALENDAR