BEGIN:VCALENDAR
VERSION:2.0
PRODID:-//IN BASSA ROMAGNA - ECPv5.8.2//NONSGML v1.0//EN
CALSCALE:GREGORIAN
METHOD:PUBLISH
X-WR-CALNAME:IN BASSA ROMAGNA
X-ORIGINAL-URL:https://www.inbassaromagna.it
X-WR-CALDESC:Eventi per IN BASSA ROMAGNA
BEGIN:VTIMEZONE
TZID:Europe/Rome
BEGIN:DAYLIGHT
TZOFFSETFROM:+0100
TZOFFSETTO:+0200
TZNAME:CEST
DTSTART:20240331T010000
END:DAYLIGHT
BEGIN:STANDARD
TZOFFSETFROM:+0200
TZOFFSETTO:+0100
TZNAME:CET
DTSTART:20241027T010000
END:STANDARD
END:VTIMEZONE
BEGIN:VEVENT
DTSTART;TZID=Europe/Rome:20240114T090000
DTEND;TZID=Europe/Rome:20240114T173000
DTSTAMP:20260421T103457
CREATED:20240104T153842Z
LAST-MODIFIED:20240104T154859Z
UID:2076-1705222800-1705253400@www.inbassaromagna.it
SUMMARY:Bagnacavallo d'Inverno
DESCRIPTION:Bagnacavallo d’inverno proporrà fino a gennaio 2024 cinquanta eventi\, spettacoli\, laboratori\, incontri e concerti che affiancheranno mostre d’arte\, presepi e proiezioni cinematografiche in un susseguirsi di appuntamenti per tutte le età. Il programma per le festività natalizie è coordinato dall’Ufficio Cultura del Comune e realizzato con la collaborazione delle associazioni e degli operatori culturali del territorio\, dei Consigli di zona e della rete di imprese “Bagnacavallo fa Centro”. \nDomenica 14 gennaio: \n\nalle 9 Ultra maratona della pace: al Centro civico Oreste Leonardi di Traversara tradizionale appuntamento invernale con l’ultra maratona nelle campagne di Traversara e dintorni (per informazioni 347 3678331);\nalle 15 Spirito e materia: nella Chiesa del Suffragio un classico dell’inverno bagnacavallese\, con incontri di musica e parole per arricchire e rinfrancare lo spirito\n\nScopri il programma
URL:https://www.inbassaromagna.it/event/bagnacavallo-dinverno-11/
LOCATION:Bagnacavallo\, Bagnacavallo\, Italy
END:VEVENT
END:VCALENDAR