BEGIN:VCALENDAR
VERSION:2.0
PRODID:-//IN BASSA ROMAGNA - ECPv5.8.2//NONSGML v1.0//EN
CALSCALE:GREGORIAN
METHOD:PUBLISH
X-WR-CALNAME:IN BASSA ROMAGNA
X-ORIGINAL-URL:https://www.inbassaromagna.it
X-WR-CALDESC:Eventi per IN BASSA ROMAGNA
BEGIN:VTIMEZONE
TZID:Europe/Rome
BEGIN:DAYLIGHT
TZOFFSETFROM:+0100
TZOFFSETTO:+0200
TZNAME:CEST
DTSTART:20220327T010000
END:DAYLIGHT
BEGIN:STANDARD
TZOFFSETFROM:+0200
TZOFFSETTO:+0100
TZNAME:CET
DTSTART:20221030T010000
END:STANDARD
END:VTIMEZONE
BEGIN:VEVENT
DTSTART;TZID=Europe/Rome:20221224T160000
DTEND;TZID=Europe/Rome:20221224T233000
DTSTAMP:20260421T205219
CREATED:20221221T120443Z
LAST-MODIFIED:20221221T120443Z
UID:1053-1671897600-1671924600@www.inbassaromagna.it
SUMMARY:Aspettando il Natale
DESCRIPTION:Aspettando il Natale si compone di una serie di incontri per lo scambio di auguri\, che si svolgeranno in diverse località del territorio il 24 dicembre. \n  \nProgramma: \nore 16 Scambio di auguri e vin brulè offerto dalla Pro Loco e dal Gruppo Alpini\, in Piazza della Libertà \nore 16.30 Scambio di auguri\, merenda e musica a cura dell’associazione “I genitori di Babbo Natale e Befana”\, in Piazza tre martiri (Villanova) \nore 18 Punto ristoro | ore 18.30 Distribuzione dei doni ai bambini a cura del Consiglio di Zona e della Polisportiva Rossetta ASD\, in Piazza Don Babini (Rossetta) \nore 20.30 Tradizionale scambio di auguri con assaggio di panettone e vin brulè\, a cura di Consiglio di Zona e Circolo ACLI Boncellino\, al Circolo ACLI (Boncellino) \nore 22.30 Scambio di auguri e brindisi\, a cura di Traversara in fiore e Consiglio di Zona\, al Centro Civico Oreste Leonardi (Traversara)
URL:https://www.inbassaromagna.it/event/aspettando-il-natale/
LOCATION:Bagnacavallo\, Bagnacavallo\, Italy
END:VEVENT
END:VCALENDAR